BEGIN:VCALENDAR
VERSION:2.0
PRODID:-//Long Lake - ECPv6.15.17.1//NONSGML v1.0//EN
CALSCALE:GREGORIAN
METHOD:PUBLISH
X-WR-CALNAME:Long Lake
X-ORIGINAL-URL:https://www.mylonglake.com
X-WR-CALDESC:Events for Long Lake
REFRESH-INTERVAL;VALUE=DURATION:PT1H
X-Robots-Tag:noindex
X-PUBLISHED-TTL:PT1H
BEGIN:VTIMEZONE
TZID:America/New_York
BEGIN:DAYLIGHT
TZOFFSETFROM:-0500
TZOFFSETTO:-0400
TZNAME:EDT
DTSTART:20220313T070000
END:DAYLIGHT
BEGIN:STANDARD
TZOFFSETFROM:-0400
TZOFFSETTO:-0500
TZNAME:EST
DTSTART:20221106T060000
END:STANDARD
BEGIN:DAYLIGHT
TZOFFSETFROM:-0500
TZOFFSETTO:-0400
TZNAME:EDT
DTSTART:20230312T070000
END:DAYLIGHT
BEGIN:STANDARD
TZOFFSETFROM:-0400
TZOFFSETTO:-0500
TZNAME:EST
DTSTART:20231105T060000
END:STANDARD
BEGIN:DAYLIGHT
TZOFFSETFROM:-0500
TZOFFSETTO:-0400
TZNAME:EDT
DTSTART:20240310T070000
END:DAYLIGHT
BEGIN:STANDARD
TZOFFSETFROM:-0400
TZOFFSETTO:-0500
TZNAME:EST
DTSTART:20241103T060000
END:STANDARD
BEGIN:DAYLIGHT
TZOFFSETFROM:-0500
TZOFFSETTO:-0400
TZNAME:EDT
DTSTART:20250309T070000
END:DAYLIGHT
BEGIN:STANDARD
TZOFFSETFROM:-0400
TZOFFSETTO:-0500
TZNAME:EST
DTSTART:20251102T060000
END:STANDARD
BEGIN:DAYLIGHT
TZOFFSETFROM:-0500
TZOFFSETTO:-0400
TZNAME:EDT
DTSTART:20260308T070000
END:DAYLIGHT
BEGIN:STANDARD
TZOFFSETFROM:-0400
TZOFFSETTO:-0500
TZNAME:EST
DTSTART:20261101T060000
END:STANDARD
END:VTIMEZONE
BEGIN:VEVENT
DTSTART;TZID=America/New_York:20250802T180000
DTEND;TZID=America/New_York:20250802T190000
DTSTAMP:20260421T044841
CREATED:20250710T192922Z
LAST-MODIFIED:20250710T192922Z
UID:10000758-1754157600-1754161200@www.mylonglake.com
SUMMARY:Boat Parade Raquette Lake
DESCRIPTION:6pm. The Boat Parade in Raquette Lake begins at 6pm. Registration forms available at Burke’s or Birds Marina. Anything goes!  We are looking for Party Barges\, Runabouts\, No-Octane.. if it floats and it’s a boat\, decorate it.  Get out on the water and show the classic spirit and tradition of Raquette Lake living.  Cash Prizes.
URL:https://www.mylonglake.com/event/boat-parade-raquette-lake/
LOCATION:Raquette Lake Town Dock\, 1 Main St\, Raquette Lake\, 13436
CATEGORIES:Raquette Lake,Summer Events,Upcoming
ATTACH;FMTTYPE=image/jpeg:https://www.mylonglake.com/wp-content/uploads/2025/07/2025.08.02-Boat-Parade-RL-copy-scaled.jpg
ORGANIZER;CN="Town of Long Lake Parks & Recreation":MAILTO:longlake@mylonglake.com
END:VEVENT
BEGIN:VEVENT
DTSTART;TZID=America/New_York:20250704T213000
DTEND;TZID=America/New_York:20250704T220000
DTSTAMP:20260421T044841
CREATED:20250523T144110Z
LAST-MODIFIED:20250523T144110Z
UID:10000725-1751664600-1751666400@www.mylonglake.com
SUMMARY:Fireworks - Raquette Lake
DESCRIPTION:It’s back in 2025\, Fireworks on July 4th at dusk! From the barge. Big booms\, celebrate a beautiful shore from the shores of Raquette Lake\, NY. \n  \n 
URL:https://www.mylonglake.com/event/fireworks-raquette-lake-2/
LOCATION:Raquette Lake Town Dock\, 1 Main St\, Raquette Lake\, 13436
CATEGORIES:Raquette Lake,Summer Events
ATTACH;FMTTYPE=image/jpeg:https://www.mylonglake.com/wp-content/uploads/2025/05/2025.07.04-RL-copy-scaled.jpg
ORGANIZER;CN="Town of Long Lake Parks & Recreation":MAILTO:longlake@mylonglake.com
END:VEVENT
BEGIN:VEVENT
DTSTART;TZID=America/New_York:20240706T213000
DTEND;TZID=America/New_York:20240706T220000
DTSTAMP:20260421T044841
CREATED:20240607T111021Z
LAST-MODIFIED:20240607T111021Z
UID:10000571-1720301400-1720303200@www.mylonglake.com
SUMMARY:Fireworks - Raquette Lake
DESCRIPTION:Raquette Lake Fireworks celebrating Independence Day happening on Saturday\, July 6th at Dusk. Fireworks shot from the barge. \n  \n  \n  \n  \nThis is a change. We apologize for any inconvenience at this late change of date.
URL:https://www.mylonglake.com/event/fireworks-raquette-lake/
LOCATION:Raquette Lake Town Dock\, 1 Main St\, Raquette Lake\, 13436
CATEGORIES:Events,News,Raquette Lake,Summer Events
ATTACH;FMTTYPE=image/jpeg:https://www.mylonglake.com/wp-content/uploads/2024/06/2024.07.04-RL-copy-scaled.jpg
END:VEVENT
BEGIN:VEVENT
DTSTART;TZID=America/New_York:20230805T180000
DTEND;TZID=America/New_York:20230805T190000
DTSTAMP:20260421T044841
CREATED:20230610T184515Z
LAST-MODIFIED:20230610T184515Z
UID:10000346-1691258400-1691262000@www.mylonglake.com
SUMMARY:Boat Parade and Fireworks
DESCRIPTION:6pm. The Boat Parade in Raquette Lake begins at 6pm. Registration forms available at Burke’s or Birds Marina. Anything goes!  We are looking for Party Barges\, Runabouts\, No-Octane.. if it floats and it’s a boat\, decorate it.  Get out on the water and show the classic spirit and tradition of Raquette Lake living.  Cash Prizes.
URL:https://www.mylonglake.com/event/boat-parade-and-fireworks/
LOCATION:Raquette Lake Town Dock\, 1 Main St\, Raquette Lake\, 13436
CATEGORIES:Events,Raquette Lake,Summer Events,Upcoming
ATTACH;FMTTYPE=image/jpeg:https://www.mylonglake.com/wp-content/uploads/2023/06/2023.08.04-Boat-Parade-RL-copy-scaled.jpg
END:VEVENT
END:VCALENDAR