BEGIN:VCALENDAR
VERSION:2.0
PRODID:-//Long Lake - ECPv6.15.17.1//NONSGML v1.0//EN
CALSCALE:GREGORIAN
METHOD:PUBLISH
X-WR-CALNAME:Long Lake
X-ORIGINAL-URL:https://www.mylonglake.com
X-WR-CALDESC:Events for Long Lake
REFRESH-INTERVAL;VALUE=DURATION:PT1H
X-Robots-Tag:noindex
X-PUBLISHED-TTL:PT1H
BEGIN:VTIMEZONE
TZID:America/New_York
BEGIN:DAYLIGHT
TZOFFSETFROM:-0500
TZOFFSETTO:-0400
TZNAME:EDT
DTSTART:20220313T070000
END:DAYLIGHT
BEGIN:STANDARD
TZOFFSETFROM:-0400
TZOFFSETTO:-0500
TZNAME:EST
DTSTART:20221106T060000
END:STANDARD
BEGIN:DAYLIGHT
TZOFFSETFROM:-0500
TZOFFSETTO:-0400
TZNAME:EDT
DTSTART:20230312T070000
END:DAYLIGHT
BEGIN:STANDARD
TZOFFSETFROM:-0400
TZOFFSETTO:-0500
TZNAME:EST
DTSTART:20231105T060000
END:STANDARD
BEGIN:DAYLIGHT
TZOFFSETFROM:-0500
TZOFFSETTO:-0400
TZNAME:EDT
DTSTART:20240310T070000
END:DAYLIGHT
BEGIN:STANDARD
TZOFFSETFROM:-0400
TZOFFSETTO:-0500
TZNAME:EST
DTSTART:20241103T060000
END:STANDARD
BEGIN:DAYLIGHT
TZOFFSETFROM:-0500
TZOFFSETTO:-0400
TZNAME:EDT
DTSTART:20250309T070000
END:DAYLIGHT
BEGIN:STANDARD
TZOFFSETFROM:-0400
TZOFFSETTO:-0500
TZNAME:EST
DTSTART:20251102T060000
END:STANDARD
BEGIN:DAYLIGHT
TZOFFSETFROM:-0500
TZOFFSETTO:-0400
TZNAME:EDT
DTSTART:20260308T070000
END:DAYLIGHT
BEGIN:STANDARD
TZOFFSETFROM:-0400
TZOFFSETTO:-0500
TZNAME:EST
DTSTART:20261101T060000
END:STANDARD
END:VTIMEZONE
BEGIN:VTIMEZONE
TZID:UTC
BEGIN:STANDARD
TZOFFSETFROM:+0000
TZOFFSETTO:+0000
TZNAME:UTC
DTSTART:20220101T000000
END:STANDARD
END:VTIMEZONE
BEGIN:VEVENT
DTSTART;TZID=America/New_York:20250927T080000
DTEND;TZID=America/New_York:20250928T170000
DTSTAMP:20260421T062219
CREATED:20250917T135336Z
LAST-MODIFIED:20250917T135336Z
UID:10000804-1758960000-1759078800@www.mylonglake.com
SUMMARY:Bear Bait Radio Club Fall Field Days
DESCRIPTION:Bear Bait Radio Club Fall Field Days \nHeld at Long Lake’s Mt. Sabattis Pavilion on September 27th-28th\, Fall Field Days are a showcase for how amateur radio can create a reliable independent communications network under any conditions and from almost any location. Anyone may become a licensed radio operator. This event is free and open to the public; for more information call 518-624-3077 or check out www.mylonglake.com.
URL:https://www.mylonglake.com/event/bear-bait-radio-club-fall-field-days/
LOCATION:Mt. Sabattis Pavilion\, 46 Pavilion Road\, Long Lake\, New York\, 12847\, United States
CATEGORIES:Fall Events,Upcoming
ATTACH;FMTTYPE=image/jpeg:https://www.mylonglake.com/wp-content/uploads/2025/09/Bear-Bait-Radio-Flyer-2025-scaled.jpg
ORGANIZER;CN="Bear Bait Radio Club":MAILTO:WA2DTN1@gmail.com
END:VEVENT
BEGIN:VEVENT
DTSTART;TZID=America/New_York:20250820T120000
DTEND;TZID=America/New_York:20250820T130000
DTSTAMP:20260421T062219
CREATED:20250725T150327Z
LAST-MODIFIED:20250725T150539Z
UID:10000777-1755691200-1755694800@www.mylonglake.com
SUMMARY:Zoomobile in Long Lake
DESCRIPTION:The Utica Zoomobile with all its furry and slithering friends will be making a 12pm stop at the Mt Sabattis Pavilion in Long Lake on August 20th. An interactive 45-minute education program provides the chance to learn about different animals and the people who care for them\, up-close and hands-on! \n  \nThis family-friendly event is free of charge and a reliable hit with kids and adults alike. Don’t visit the Zoo… Have the Zoo visit you! For more information\, call the Long Lake Parks and Recreation Department at 518-624-3077.
URL:https://www.mylonglake.com/event/zoomobile-in-long-lake/
LOCATION:Mt. Sabattis Pavilion\, 46 Pavilion Road\, Long Lake\, New York\, 12847\, United States
CATEGORIES:Summer Events,Upcoming
ATTACH;FMTTYPE=image/jpeg:https://www.mylonglake.com/wp-content/uploads/2025/07/2025.08.20-LL-Zoomobile-revised-NOON-scaled.jpg
ORGANIZER;CN="Town of Long Lake Parks & Recreation":MAILTO:longlake@mylonglake.com
END:VEVENT
BEGIN:VEVENT
DTSTART;TZID=America/New_York:20250813T190000
DTEND;TZID=America/New_York:20250813T203000
DTSTAMP:20260421T062219
CREATED:20250812T121434Z
LAST-MODIFIED:20250812T121434Z
UID:10000781-1755111600-1755117000@www.mylonglake.com
SUMMARY:Summer Trivia Night
DESCRIPTION:Summer Trivia Night \n7pm. Mt. Sabattis Pavilion. Come test your knowledge against the Trivia Tsar. Bring a picnic\, flashlight and bug spray and a team! 
URL:https://www.mylonglake.com/event/summer-trivia-night-4/
LOCATION:Mt. Sabattis Pavilion\, 46 Pavilion Road\, Long Lake\, New York\, 12847\, United States
CATEGORIES:Summer Events
ATTACH;FMTTYPE=image/jpeg:https://www.mylonglake.com/wp-content/uploads/2025/05/2025.07.09-Trivia-Nights-copy-1-scaled.jpg
ORGANIZER;CN="Town of Long Lake Parks & Recreation":MAILTO:longlake@mylonglake.com
END:VEVENT
BEGIN:VEVENT
DTSTART;TZID=America/New_York:20250810T140000
DTEND;TZID=America/New_York:20250810T160000
DTSTAMP:20260421T062219
CREATED:20250805T120456Z
LAST-MODIFIED:20250805T120456Z
UID:10000780-1754834400-1754841600@www.mylonglake.com
SUMMARY:Acoustic Jam
DESCRIPTION:Acoustic Jam at the Mt. Sabattis Pavilion. \nEveryone welcome. \nThe music genres are generally folk\, bluegrass\, country\, OT and soft rock.  It makes for s better experience for all if you have 3-4 songs that you have practiced.  When you are in the circle and call for a song\,  it is your responsibility to lead it\, so be familiar with chords and lyrics so that we may all share.
URL:https://www.mylonglake.com/event/acoustic-jam-5/
LOCATION:Mt. Sabattis Pavilion\, 46 Pavilion Road\, Long Lake\, New York\, 12847\, United States
CATEGORIES:News,Summer Events,Upcoming
ATTACH;FMTTYPE=image/jpeg:https://www.mylonglake.com/wp-content/uploads/2025/08/IMG_6634-scaled.jpeg
ORGANIZER;CN="Long Lake Acoustic Music Associates":MAILTO:longlakejamsessions@gmail.com
END:VEVENT
BEGIN:VEVENT
DTSTART;TZID=America/New_York:20250803T100000
DTEND;TZID=America/New_York:20250803T160000
DTSTAMP:20260421T062220
CREATED:20250710T193657Z
LAST-MODIFIED:20250710T193657Z
UID:10000760-1754215200-1754236800@www.mylonglake.com
SUMMARY:Heart of the Park Craft Fair
DESCRIPTION:10am-4pm. The Annual Heart of the Park Craft Fair\, sponsored by the Town of Long Lake will be held at the Mt. Sabattis Pavilion in Long Lake\, NY. American wares for sale.  The works include: photographs\, fudge\, pottery\, tee-shirts\, canoe-paddles\, unique textile art\, jewelry\, special novelties and more.  $1 Admission.  Call 518-624-3077 for more information or check outwww.mylonglake.com 
URL:https://www.mylonglake.com/event/heart-of-the-park-craft-fair/
LOCATION:Mt. Sabattis Pavilion\, 46 Pavilion Road\, Long Lake\, New York\, 12847\, United States
CATEGORIES:Summer Events,Upcoming
ATTACH;FMTTYPE=image/jpeg:https://www.mylonglake.com/wp-content/uploads/2025/07/2025.08.03-LL-Craft-Fair-copy-scaled.jpg
ORGANIZER;CN="Town of Long Lake Parks & Recreation":MAILTO:longlake@mylonglake.com
END:VEVENT
BEGIN:VEVENT
DTSTART;TZID=America/New_York:20250727T190000
DTEND;TZID=America/New_York:20250727T210000
DTSTAMP:20260421T062220
CREATED:20250616T211322Z
LAST-MODIFIED:20250616T211332Z
UID:10000738-1753642800-1753650000@www.mylonglake.com
SUMMARY:Shakespeare in the Park - "As You Like It"
DESCRIPTION:Shakespeare in the Park \n7pm. Free to attend.  The Adirondack Lakes Center for the Arts presents “As You Like it – Abridged”.  Come enjoy a fast paced comedy at the Mt. Sabattis Pavilion. \n46 Pavilion Way\, Long Lake\, NY\, 12847 \nCo-Sponsored by the Town of Long Lake.
URL:https://www.mylonglake.com/event/shakespeare-in-the-park-as-you-like-it/
LOCATION:Mt. Sabattis Pavilion\, 46 Pavilion Road\, Long Lake\, New York\, 12847\, United States
CATEGORIES:Summer Events,Upcoming
ATTACH;FMTTYPE=image/avif:https://www.mylonglake.com/wp-content/uploads/2025/06/AS-YOU-LIKE-IT.JPG.avif
END:VEVENT
BEGIN:VEVENT
DTSTART;TZID=America/New_York:20250709T190000
DTEND;TZID=America/New_York:20250709T210000
DTSTAMP:20260421T062220
CREATED:20250507T145448Z
LAST-MODIFIED:20250507T145448Z
UID:10000705-1752087600-1752094800@www.mylonglake.com
SUMMARY:Summer Trivia Night
DESCRIPTION:Come test your knowledge against the Quiz Master. Bring a picnic\, lawn chairs and coolers are welcome. Prizes donated by local businesses. Enjoy an evening of good laughs\, laugh questions\, and even better competition. Be there or be square.   \n  \n 
URL:https://www.mylonglake.com/event/summer-trivia-night-3/
LOCATION:Mt. Sabattis Pavilion\, 46 Pavilion Road\, Long Lake\, New York\, 12847\, United States
CATEGORIES:Summer Events,Upcoming
ATTACH;FMTTYPE=image/jpeg:https://www.mylonglake.com/wp-content/uploads/2025/05/2025.07.09-Trivia-Nights-copy-1-scaled.jpg
ORGANIZER;CN="Town of Long Lake Parks & Recreation":MAILTO:longlake@mylonglake.com
END:VEVENT
BEGIN:VEVENT
DTSTART;TZID=America/New_York:20240813T130000
DTEND;TZID=America/New_York:20240813T140000
DTSTAMP:20260421T062220
CREATED:20240627T163106Z
LAST-MODIFIED:20240627T163106Z
UID:10000634-1723554000-1723557600@www.mylonglake.com
SUMMARY:Utica Zoomobile
DESCRIPTION:1pm. The Utica Zoomobile sponsored by the Town of Long Lake will be held at the Mt. Sabattis Pavilion (1p.m.) The Utica Zoomobile and all its furry and slithering friends make a stop  in Long Lake at the Mt. Sabattis pavilion at noon for educational programs and the chance to pet exotic reptiles and animals! Great free family event. Call 518-624-3077 for more information or check out www.mylonglake.com
URL:https://www.mylonglake.com/event/utica-zoomobile-2/
LOCATION:Mt. Sabattis Pavilion\, 46 Pavilion Road\, Long Lake\, New York\, 12847\, United States
CATEGORIES:Summer Events,Upcoming
ATTACH;FMTTYPE=image/jpeg:https://www.mylonglake.com/wp-content/uploads/2024/04/zoomobile-2.jpg
ORGANIZER;CN="Town of Long Lake Parks & Recreation":MAILTO:longlake@mylonglake.com
END:VEVENT
BEGIN:VEVENT
DTSTART;TZID=America/New_York:20240807T190000
DTEND;TZID=America/New_York:20240807T210000
DTSTAMP:20260421T062220
CREATED:20240422T181620Z
LAST-MODIFIED:20240424T180313Z
UID:10000559-1723057200-1723064400@www.mylonglake.com
SUMMARY:Summer Trivia Night
DESCRIPTION:7pm. Mt. Sabattis Pavilion. Come test your knowledge against the Trivia Tsar. Bring a picnic\, lawn chairs and coolers are welcome. Prizes donated by local businesses.
URL:https://www.mylonglake.com/event/summer-trivia-night-2/
LOCATION:Mt. Sabattis Pavilion\, 46 Pavilion Road\, Long Lake\, New York\, 12847\, United States
CATEGORIES:Summer Events,Upcoming
ATTACH;FMTTYPE=image/jpeg:https://www.mylonglake.com/wp-content/uploads/2024/04/Summer-Trivia-August-2024-copy-1.jpg
ORGANIZER;CN="Town of Long Lake Parks & Recreation":MAILTO:longlake@mylonglake.com
END:VEVENT
BEGIN:VEVENT
DTSTART;TZID=America/New_York:20240804T100000
DTEND;TZID=America/New_York:20240804T160000
DTSTAMP:20260421T062220
CREATED:20240422T172208Z
LAST-MODIFIED:20240424T180559Z
UID:10000555-1722765600-1722787200@www.mylonglake.com
SUMMARY:Annual Heart of the Park Craft Fair
DESCRIPTION:10am-4pm. The Annual Heart of the Park Craft Fair\, sponsored by the Town of Long Lake will be held at the Mt. Sabattis Pavilion. American wares for sale.  The works include: photographs\, fudge\, pottery\, tee-shirts\, canoe-paddles\, unique textile art\, jewelry\, special novelties and more.  $1 Admission.  Call 518-624-3077 for more information or check out www.mylonglake.com 
URL:https://www.mylonglake.com/event/annual-heart-of-the-park-craft-fair/
LOCATION:Mt. Sabattis Pavilion\, 46 Pavilion Road\, Long Lake\, New York\, 12847\, United States
CATEGORIES:Summer Events,Upcoming
ATTACH;FMTTYPE=image/jpeg:https://www.mylonglake.com/wp-content/uploads/2024/04/hotp-craft-fair.jpg
ORGANIZER;CN="Town of Long Lake Parks & Recreation":MAILTO:longlake@mylonglake.com
END:VEVENT
BEGIN:VEVENT
DTSTART;TZID=America/New_York:20240710T190000
DTEND;TZID=America/New_York:20240710T210000
DTSTAMP:20260421T062220
CREATED:20240418T191539Z
LAST-MODIFIED:20240424T181109Z
UID:10000543-1720638000-1720645200@www.mylonglake.com
SUMMARY:Summer Trivia Night
DESCRIPTION:7pm. Mt. Sabattis Pavilion. Come test your knowledge against the Trivia Tsar. Bring a picnic\, lawn chairs and coolers are welcome. Prizes donated by local businesses.
URL:https://www.mylonglake.com/event/summer-trivia-night/
LOCATION:Mt. Sabattis Pavilion\, 46 Pavilion Road\, Long Lake\, New York\, 12847\, United States
CATEGORIES:Summer Events,Upcoming
ATTACH;FMTTYPE=image/jpeg:https://www.mylonglake.com/wp-content/uploads/2024/04/Summer-Trivia-July-2024.jpg
ORGANIZER;CN="Town of Long Lake Parks & Recreation":MAILTO:longlake@mylonglake.com
END:VEVENT
BEGIN:VEVENT
DTSTART;TZID=America/New_York:20240622T100000
DTEND;TZID=America/New_York:20240623T120000
DTSTAMP:20260421T062220
CREATED:20240610T125106Z
LAST-MODIFIED:20240610T125106Z
UID:10000572-1719050400-1719144000@www.mylonglake.com
SUMMARY:Ham Radio Field Days
DESCRIPTION: WHO/WHAT Members of the Bear Bait Radio Club will be participating in the national amateur radio Field Day exercise\, June 22 – 23 at the Mt. Sabattis Picnic Pavilion in Long Lake. Since 1933\, ham radio operators across North America have established temporary ham radio stations in public locations during Field Day to showcase the science and skill of amateur radio. This event is open to the public and all are encouraged to attend.  \nWHEN Saturday and Sunday\, June 22 and 23. On Saturday\, June 22\, from 10AM to 6PM and on Sunday\, June 23\, from 9AM to noon.  \nWHERE Long Lake Pavilion\, 6 Deerland Rd\, Long Lake\, NY 12847  \nWHY Field Day is a showcase for how amateur radio works reliably under any conditions from almost any location to create an independent communications network. “Ham radio functions completely independent of the Internet or cell phone infrastructure\, can interface with laptops or smartphones\, and can be set up almost anywhere in minutes. That’s the beauty of amateur radio during a communications outage\,” says Bob Inderbitzen\, NQ1R\, spokesperson for ARRL The national association for Amateur Radio®\, (www.arrl.org)\, which represents amateur (or “ham”) radio operators across the country. “In today’s electronic do-it-yourself (DIY) environment\, ham radio remains one of the best ways for people to learn about electronics\, physics\, meteorology\, and numerous other scientific disciplines\, and is a huge asset to any community during disasters or emergencies if the standard communication infrastructure goes down\,” Inderbitzen adds. Anyone may become a licensed amateur radio operator. There are more than 750\,000 licensed hams in the United States\, as young as 9 and as old as 100. And with clubs such as Bear Bait Radio Club\, it’s easy for anybody to get involved right here in Long Lake. For more information about Field Day or amateur radio\, contact Scott Marriam\, WA2DTN1@gmail.com or visit www.arrl.org/what-is-ham-radio. 
URL:https://www.mylonglake.com/event/ham-radio-field-days-2/
LOCATION:Mt. Sabattis Pavilion\, 46 Pavilion Road\, Long Lake\, New York\, 12847\, United States
CATEGORIES:Summer Events
ATTACH;FMTTYPE=image/jpeg:https://www.mylonglake.com/wp-content/uploads/2024/06/IMG_0407-scaled.jpg
ORGANIZER;CN="Bear Bait Radio Club":MAILTO:WA2DTN1@gmail.com
END:VEVENT
BEGIN:VEVENT
DTSTART;TZID=America/New_York:20230813T140000
DTEND;TZID=America/New_York:20230813T160000
DTSTAMP:20260421T062220
CREATED:20230813T163818Z
LAST-MODIFIED:20230813T163858Z
UID:10000385-1691935200-1691942400@www.mylonglake.com
SUMMARY:Acoustic Jam
DESCRIPTION:2-4pm\n\nPlease join us. All are welcome. If you’re not a musician\, come to enjoy an afternoon of music. \nInstruments typically are guitar\, dobro\, fiddle\, dulcimer\, harp\, mandolin\, accordion\, concertina\, banjo\, spoons\, tin whistle\, bass\, whatever. Sadly\, there have been not fiddle players recently. There is no amplification. \nWe take turns in picking our favorite music so it can be Country\, Old Time\, Celtic\, Folk\, Bluegrass\, or whatever you want. We’ll even take requests and sometimes\, we might even know the tune. Over the years\, there have been some very strange songs played to Banjo and Mandolin. \n\n\n\nevent\n\n\nOrganizer: My Long Lake Events Calendar
URL:https://www.mylonglake.com/event/acoustic-jam-2/
LOCATION:Mt. Sabattis Pavilion\, 46 Pavilion Road\, Long Lake\, New York\, 12847\, United States
CATEGORIES:Events,Summer Events
ATTACH;FMTTYPE=image/jpeg:https://www.mylonglake.com/wp-content/uploads/2022/11/acoustic-guitar-coffee-e1293995603792.jpg
ORGANIZER;CN="Long Lake Acoustic Music Associates":MAILTO:longlakejamsessions@gmail.com
END:VEVENT
BEGIN:VEVENT
DTSTART;TZID=America/New_York:20230806T100000
DTEND;TZID=America/New_York:20230806T160000
DTSTAMP:20260421T062220
CREATED:20230611T132738Z
LAST-MODIFIED:20230611T132738Z
UID:10000348-1691316000-1691337600@www.mylonglake.com
SUMMARY:Craft Fair - Long Lake Heart of the Park
DESCRIPTION:“Heart of the Park” Craft Fair \n10am-4pm. The Annual Heart of the Park Craft Fair\, sponsored by the Town of Long Lake will be held at the Mt. Sabattis Pavilion. American made wares for sale.  The works include: photographs\, fudge\, pottery\, tee-shirts\, canoe-paddles\, unique textile art\, jewelry\, special novelties and more.  $1 Admission.  Call 518-624-3077 for more information or check out www.mylonglake.com \nFood sold on site by the Long Lake Lions Club. \nGreat place for your holiday gift buying and unique items.
URL:https://www.mylonglake.com/event/craft-fair-long-lake-heart-of-the-park/
LOCATION:Mt. Sabattis Pavilion\, 46 Pavilion Road\, Long Lake\, New York\, 12847\, United States
CATEGORIES:Events,Summer Events,Upcoming
ATTACH;FMTTYPE=image/jpeg:https://www.mylonglake.com/wp-content/uploads/2023/06/2023.08.06-LL-Craft-Fair-copy-scaled.jpg
ORGANIZER;CN="Town of Long Lake Parks & Recreation":MAILTO:longlake@mylonglake.com
END:VEVENT
BEGIN:VEVENT
DTSTART;TZID=UTC:20230719T130000
DTEND;TZID=UTC:20230719T150000
DTSTAMP:20260421T062220
CREATED:20220414T182721Z
LAST-MODIFIED:20221014T005015Z
UID:10000033-1689771600-1689778800@www.mylonglake.com
SUMMARY:Kids Art Classes
DESCRIPTION:Kids Art Class with teacher Cindy Black. $5 per class. Ages 10 and up are welcome to participate. Walk-ins welcome. Variety of mediums will be used.
URL:https://www.mylonglake.com/event/kids-art-classes/
LOCATION:Mt. Sabattis Pavilion\, 46 Pavilion Road\, Long Lake\, New York\, 12847\, United States
CATEGORIES:Summer Events
ATTACH;FMTTYPE=image/jpeg:https://www.mylonglake.com/wp-content/uploads/2022/04/shutterstock_713233300-scaled.jpg
END:VEVENT
BEGIN:VEVENT
DTSTART;TZID=UTC:20230712T130000
DTEND;TZID=UTC:20230712T150000
DTSTAMP:20260421T062220
CREATED:20220414T195138Z
LAST-MODIFIED:20230712T151140Z
UID:10000036-1689166800-1689174000@www.mylonglake.com
SUMMARY:Kids Art Classes - CANCELED FOR JULY 12
DESCRIPTION:CANCELED FOR JULY 12TH \nKids Art Classes with Cindy Black will be held at the Mt. Sabattis Pavilion. Bring your kids ages 10 an up to the Mt. Sabattis Pavilion and join Long Lake Lake local Cindy Black for a kids painting and art series. Kids will enjoy diverse art classes featuring art in nature. For a material fee on $5 a class. All materials will be provided.
URL:https://www.mylonglake.com/event/kids-art-classes-2/
LOCATION:Mt. Sabattis Pavilion\, 46 Pavilion Road\, Long Lake\, New York\, 12847\, United States
CATEGORIES:Summer Events
ATTACH;FMTTYPE=image/jpeg:https://www.mylonglake.com/wp-content/uploads/2022/04/shutterstock_713233300-scaled.jpg
ORGANIZER;CN="Town of Long Lake Parks & Recreation":MAILTO:longlake@mylonglake.com
END:VEVENT
BEGIN:VEVENT
DTSTART;TZID=UTC:20230712T130000
DTEND;TZID=UTC:20230712T150000
DTSTAMP:20260421T062220
CREATED:20220413T225703Z
LAST-MODIFIED:20221014T005119Z
UID:10000030-1689166800-1689174000@www.mylonglake.com
SUMMARY:Kids Art Class
DESCRIPTION:Kids 10 and up enjoy working in a variety of mediums. Painting\, drawing and more. Enjoy drawing wildlife\, landscapes and art in nature scenes. Materials fee $5 per class. All materials provided. Classes held every Wednesday through August 31st 2022. Taught by Cindy Black
URL:https://www.mylonglake.com/event/kids-art-class-2/
LOCATION:Mt. Sabattis Pavilion\, 46 Pavilion Road\, Long Lake\, New York\, 12847\, United States
CATEGORIES:Summer Events
ATTACH;FMTTYPE=image/jpeg:https://www.mylonglake.com/wp-content/uploads/2022/04/Kids-Art-Class-2018-scaled.jpg
END:VEVENT
BEGIN:VEVENT
DTSTART;TZID=America/New_York:20230709T140000
DTEND;TZID=America/New_York:20230709T160000
DTSTAMP:20260421T062220
CREATED:20230629T113314Z
LAST-MODIFIED:20230629T113314Z
UID:10000377-1688911200-1688918400@www.mylonglake.com
SUMMARY:Acoustic Jam
DESCRIPTION:2-4pm\n\nPlease join us. All are welcome. If you’re not a musician\, come to enjoy an afternoon of music. \nInstruments typically are guitar\, dobro\, fiddle\, dulcimer\, harp\, mandolin\, accordion\, concertina\, banjo\, spoons\, tin whistle\, bass\, whatever. Sadly\, there have been not fiddle players recently. There is no amplification. \nWe take turns in picking our favorite music so it can be Country\, Old Time\, Celtic\, Folk\, Bluegrass\, or whatever you want. We’ll even take requests and sometimes\, we might even know the tune. Over the years\, there have been some very strange songs played to Banjo and Mandolin.
URL:https://www.mylonglake.com/event/acoustic-jam/
LOCATION:Mt. Sabattis Pavilion\, 46 Pavilion Road\, Long Lake\, New York\, 12847\, United States
CATEGORIES:Events,Summer Events,Upcoming
ATTACH;FMTTYPE=image/jpeg:https://www.mylonglake.com/wp-content/uploads/2023/06/2023.07.09-acoustic-jam.jpeg
ORGANIZER;CN="Long Lake Acoustic Music Associates":MAILTO:longlakejamsessions@gmail.com
END:VEVENT
BEGIN:VEVENT
DTSTART;TZID=UTC:20230705T130000
DTEND;TZID=UTC:20230705T150000
DTSTAMP:20260421T062220
CREATED:20220413T222138Z
LAST-MODIFIED:20221014T004556Z
UID:10000028-1688562000-1688569200@www.mylonglake.com
SUMMARY:Kids Art Class
DESCRIPTION:Kids 10 and up enjoy working in a variety of mediums. Painting\, drawing and more. Enjoy drawing wildlife\, landscapes and art in nature scenes. Materials fee $5 per class. All materials provided. Classes held every Wednesday through August 31st 2022. Taught by Cindy Black
URL:https://www.mylonglake.com/event/kids-art-class/
LOCATION:Mt. Sabattis Pavilion\, 46 Pavilion Road\, Long Lake\, New York\, 12847\, United States
CATEGORIES:Summer Events
ATTACH;FMTTYPE=image/jpeg:https://www.mylonglake.com/wp-content/uploads/2022/04/Loons-kids-art-class.jpg
ORGANIZER;CN="Town of Long Lake Parks & Recreation":MAILTO:longlake@mylonglake.com
END:VEVENT
BEGIN:VEVENT
DTSTART;TZID=America/New_York:20230630T130000
DTEND;TZID=America/New_York:20230630T140000
DTSTAMP:20260421T062220
CREATED:20230629T174105Z
LAST-MODIFIED:20230629T174105Z
UID:10000378-1688130000-1688133600@www.mylonglake.com
SUMMARY:Long Lake Library Presents Mark Manske - Adirondack Raptors
DESCRIPTION:Mark Manske\, Adirondack Raptors\, will be giving a live birds of prey presentation at the Mt. Sabattis Pavilion.\nFamily friendly. No cost to attend. All are welcome!
URL:https://www.mylonglake.com/event/long-lake-library-presents-mark-manske-adirondack-raptors-2/
LOCATION:Mt. Sabattis Pavilion\, 46 Pavilion Road\, Long Lake\, New York\, 12847\, United States
CATEGORIES:Library,Summer Events,Upcoming
ATTACH;FMTTYPE=image/jpeg:https://www.mylonglake.com/wp-content/uploads/2023/06/13458667_10157062048520181_4120553798534273981_o.jpg
END:VEVENT
BEGIN:VEVENT
DTSTART;VALUE=DATE:20230624
DTEND;VALUE=DATE:20230626
DTSTAMP:20260421T062220
CREATED:20230612T140637Z
LAST-MODIFIED:20230612T140637Z
UID:10000360-1687564800-1687737599@www.mylonglake.com
SUMMARY:Ham Radio Field Days
DESCRIPTION:Amateur Radio “Field Day” – June 24 and 25 – Will Focus on Skill\, Service\, Science \nWHO/WHAT Members of the Bear Bait Radio Club will be participating in the national amateur radio Field Day exercise\, June 24 – 25 at the Mt. Sabattis Picnic Pavilion in Long Lake. \nSince 1933\, ham radio operators across North America have established temporary ham radio stations in public locations during Field Day to showcase the science and skill of amateur radio. This event is open to the public and all are encouraged to attend. \nWHEN Saturday and Sunday\, June 24 and 25. On Saturday\, June 24\, from 10AM to 6PM and on Sunday\, June 25\, from 9AM to noon. \nWHERE Long Lake Pavilion\, 6 Deerland Rd\, Long Lake\, NY 12847 \nWHY Field Day is a showcase for how amateur radio works reliably under any conditions from almost any location to create an independent communications network. “Ham radio functions completely independent of the Internet or cell phone infrastructure\, can interface with laptops or smartphones\, and can be set up almost anywhere in minutes. That’s the beauty of amateur radio during a communications outage\,” says Bob Inderbitzen\, NQ1R\, spokesperson for ARRL The national association for Amateur Radio®\, (www.arrl.org)\, which represents amateur (or “ham”) radio operators across the country. “In today’s electronic do-it-yourself (DIY) environment\, ham radio remains one of the best ways for people to learn about electronics\, physics\, meteorology\, and numerous other scientific disciplines\, and is a huge asset to any community during disasters or emergencies if the standard communication infrastructure goes down\,” Inderbitzen adds. Anyone may become a licensed amateur radio operator. There are more than 750\,000 licensed hams in the United States\, as young as 9 and as old as 100. And with clubs such as the Bear Bait Radio Club\, it’s easy for anybody to get involved right here in Long Lake. For more information about Field Day or amateur radio\, contact Scott Marriam\, WA2DTN1@gmail.com or visit www.arrl.org/what-is-ham-radio
URL:https://www.mylonglake.com/event/ham-radio-field-days/
LOCATION:Mt. Sabattis Pavilion\, 46 Pavilion Road\, Long Lake\, New York\, 12847\, United States
CATEGORIES:Events,Summer Events,Upcoming
ATTACH;FMTTYPE=image/jpeg:https://www.mylonglake.com/wp-content/uploads/2023/06/IMG_0407-scaled.jpeg
ORGANIZER;CN="Bear Bait Radio Club":MAILTO:WA2DTN1@gmail.com
END:VEVENT
END:VCALENDAR