BEGIN:VCALENDAR
VERSION:2.0
PRODID:-//Long Lake - ECPv6.15.17.1//NONSGML v1.0//EN
CALSCALE:GREGORIAN
METHOD:PUBLISH
X-ORIGINAL-URL:https://www.mylonglake.com
X-WR-CALDESC:Events for Long Lake
REFRESH-INTERVAL;VALUE=DURATION:PT1H
X-Robots-Tag:noindex
X-PUBLISHED-TTL:PT1H
BEGIN:VTIMEZONE
TZID:America/New_York
BEGIN:DAYLIGHT
TZOFFSETFROM:-0500
TZOFFSETTO:-0400
TZNAME:EDT
DTSTART:20220313T070000
END:DAYLIGHT
BEGIN:STANDARD
TZOFFSETFROM:-0400
TZOFFSETTO:-0500
TZNAME:EST
DTSTART:20221106T060000
END:STANDARD
BEGIN:DAYLIGHT
TZOFFSETFROM:-0500
TZOFFSETTO:-0400
TZNAME:EDT
DTSTART:20230312T070000
END:DAYLIGHT
BEGIN:STANDARD
TZOFFSETFROM:-0400
TZOFFSETTO:-0500
TZNAME:EST
DTSTART:20231105T060000
END:STANDARD
BEGIN:DAYLIGHT
TZOFFSETFROM:-0500
TZOFFSETTO:-0400
TZNAME:EDT
DTSTART:20240310T070000
END:DAYLIGHT
BEGIN:STANDARD
TZOFFSETFROM:-0400
TZOFFSETTO:-0500
TZNAME:EST
DTSTART:20241103T060000
END:STANDARD
BEGIN:DAYLIGHT
TZOFFSETFROM:-0500
TZOFFSETTO:-0400
TZNAME:EDT
DTSTART:20250309T070000
END:DAYLIGHT
BEGIN:STANDARD
TZOFFSETFROM:-0400
TZOFFSETTO:-0500
TZNAME:EST
DTSTART:20251102T060000
END:STANDARD
END:VTIMEZONE
BEGIN:VEVENT
DTSTART;TZID=America/New_York:20240615T110000
DTEND;TZID=America/New_York:20240615T120000
DTSTAMP:20260421T062511
CREATED:20240606T143504Z
LAST-MODIFIED:20240606T143504Z
UID:10000567-1718449200-1718452800@www.mylonglake.com
SUMMARY:Raquette Lake Kids Fishing Derby
DESCRIPTION:This years event hosted by Forsell’s Cottages\, 288 Poplar Point Rd\, Raquette Lake\, NY \nBoats leave at 11 am and return at 12pm for lunch. \n  \nHot Dogs\, Chips and Drinks provided after fishing and before awards ceremony. \n  \nEach participant must be accompanied by an adult along with their own Personal Floating Device (PFD) and fishing pole. Bait will be provided.
URL:https://www.mylonglake.com/event/raquette-lake-kids-fishing-derby/
LOCATION:Forsell’s
CATEGORIES:Raquette Lake,Summer Events
ATTACH;FMTTYPE=image/jpeg:https://www.mylonglake.com/wp-content/uploads/2024/06/2020.07-Raquette-Lake-3.jpg
END:VEVENT
BEGIN:VEVENT
DTSTART;TZID=America/New_York:20240517T170000
DTEND;TZID=America/New_York:20240518T170000
DTSTAMP:20260421T062511
CREATED:20240415T193922Z
LAST-MODIFIED:20240415T193922Z
UID:10000466-1715965200-1716051600@www.mylonglake.com
SUMMARY:Lamphear Memorial Fishing Derby
DESCRIPTION:The Lamphear Memorial Fishing Derby is held on Raquette Lake. Registration and weigh-in will be held at the Tap Room in Raquette Lake. Adults are $20/person and youth 16 and under are $1.
URL:https://www.mylonglake.com/event/lamphear-memorial-fishing-derby-2/
CATEGORIES:Upcoming
ATTACH;FMTTYPE=image/jpeg:https://www.mylonglake.com/wp-content/uploads/2024/04/LMFD-pic.jpg
END:VEVENT
BEGIN:VEVENT
DTSTART;TZID=America/New_York:20230617T110000
DTEND;TZID=America/New_York:20230617T120000
DTSTAMP:20260421T062511
CREATED:20230615T115834Z
LAST-MODIFIED:20230615T115834Z
UID:10000364-1686999600-1687003200@www.mylonglake.com
SUMMARY:Raquette Lake Kids Fishing Derby
DESCRIPTION:11am – 12pm at Forsell’s Cottages\, 288 Poplar Point Road.  \nBoats depart at 11am and return by noon.  Must bring fishing pole and life-jacket. Don’t have a boat\, no worries\, you can fish right off the dock! \nFun!
URL:https://www.mylonglake.com/event/raquette-lake-kids-fishing-derby-2/
CATEGORIES:Events,Raquette Lake,Summer Events
ATTACH;FMTTYPE=image/jpeg:https://www.mylonglake.com/wp-content/uploads/2023/04/2023-RL-Kids-Derby-scaled.jpg
END:VEVENT
BEGIN:VEVENT
DTSTART;TZID=America/New_York:20230519T080000
DTEND;TZID=America/New_York:20230520T170000
DTSTAMP:20260421T062511
CREATED:20220317T032101Z
LAST-MODIFIED:20230509T150215Z
UID:10000020-1684483200-1684602000@www.mylonglake.com
SUMMARY:Lamphear Memorial Fishing Derby
DESCRIPTION:  \n  \n\nRaquette Lake \n\nRaquette Lake\, NY 13360\, USA\n\n\n\n\n \n5p.m. the Lamphear Memorial Fishing Derby is held on Raquette Lake. Registration and weigh-in will be held at the Tap Room in Raquette Lake. Adults are $20/person and youth 16and under are $1.\n\n  \n  \n 
URL:https://www.mylonglake.com/event/lamphear-memorial-fishing-derby/
LOCATION:Raquette Lake Village Green\, 1 Main Street\, Raquette Lake\, New York\, 13436\, United States
CATEGORIES:Spring Events
ATTACH;FMTTYPE=image/jpeg:https://www.mylonglake.com/wp-content/uploads/2022/03/187645803_10225270798255295_1033349068761315701_n.jpg
END:VEVENT
BEGIN:VEVENT
DTSTART;TZID=America/New_York:20230128T070000
DTEND;TZID=America/New_York:20230128T150000
DTSTAMP:20260421T062511
CREATED:20221209T134826Z
LAST-MODIFIED:20230111T165335Z
UID:10000187-1674889200-1674918000@www.mylonglake.com
SUMMARY:Mike Norris Ice Fishing Derby
DESCRIPTION:First Line in at 7:00am\, Last Line out at 3:00pm. \nFinal weigh-ins will be concluded by 3:30pm. \nOn-Line Registration Link 2023 \nCheck out the Raquette Lake Fish and Game Facebook page for up to date information.
URL:https://www.mylonglake.com/event/mikenorris-ice-fishing-derby/
LOCATION:Raquette Lake Fire Department\, 178 NYS Route 28\, Raquette Lake\, NY\, 13436\, United States
CATEGORIES:Upcoming,Winter Events
ATTACH;FMTTYPE=image/jpeg:https://www.mylonglake.com/wp-content/uploads/2022/12/Logo-Mike-Norris-copy.jpg
END:VEVENT
END:VCALENDAR