BEGIN:VCALENDAR
VERSION:2.0
PRODID:-//Long Lake - ECPv6.15.17.1//NONSGML v1.0//EN
CALSCALE:GREGORIAN
METHOD:PUBLISH
X-WR-CALNAME:Long Lake
X-ORIGINAL-URL:https://www.mylonglake.com
X-WR-CALDESC:Events for Long Lake
REFRESH-INTERVAL;VALUE=DURATION:PT1H
X-Robots-Tag:noindex
X-PUBLISHED-TTL:PT1H
BEGIN:VTIMEZONE
TZID:America/New_York
BEGIN:DAYLIGHT
TZOFFSETFROM:-0500
TZOFFSETTO:-0400
TZNAME:EDT
DTSTART:20250309T070000
END:DAYLIGHT
BEGIN:STANDARD
TZOFFSETFROM:-0400
TZOFFSETTO:-0500
TZNAME:EST
DTSTART:20251102T060000
END:STANDARD
BEGIN:DAYLIGHT
TZOFFSETFROM:-0500
TZOFFSETTO:-0400
TZNAME:EDT
DTSTART:20260308T070000
END:DAYLIGHT
BEGIN:STANDARD
TZOFFSETFROM:-0400
TZOFFSETTO:-0500
TZNAME:EST
DTSTART:20261101T060000
END:STANDARD
BEGIN:DAYLIGHT
TZOFFSETFROM:-0500
TZOFFSETTO:-0400
TZNAME:EDT
DTSTART:20270314T070000
END:DAYLIGHT
BEGIN:STANDARD
TZOFFSETFROM:-0400
TZOFFSETTO:-0500
TZNAME:EST
DTSTART:20271107T060000
END:STANDARD
END:VTIMEZONE
BEGIN:VEVENT
DTSTART;TZID=America/New_York:20260131T080000
DTEND;TZID=America/New_York:20260131T170000
DTSTAMP:20260421T085110
CREATED:20260123T215658Z
LAST-MODIFIED:20260123T215658Z
UID:10001659-1769846400-1769878800@www.mylonglake.com
SUMMARY:Mike Norris Fishing Derby 2026
DESCRIPTION:The Mike Norris Fishing Derby returns for its 26th year as a beloved winter tradition on Raquette Lake\, bringing together families\, friends\, and anglers of all ages for a full day of fun on the ice. Hosted by the Raquette Lake Fish & Game Club\, this long-running derby is about more than fishing—it’s about sharing stories\, making memories\, and celebrating winter together. \nFrom early morning check-in to the final weigh-in\, the lake comes alive with activity as participants drop their lines\, cheer each other on\, and enjoy the easy camaraderie that defines this event. Kids\, parents\, seasoned anglers\, and first-timers alike are welcome\, with junior and adult divisions ensuring everyone has a chance to take part. Throughout the day\, there are food options\, 50/50 drawings\, door prizes\, and plenty of reasons to stick around even after the fish stop biting. \nWhether you’re competing for prizes\, teaching a young angler their first ice-fishing skills\, or simply soaking in a classic Adirondack winter day\, the Mike Norris Fishing Derby is a reminder of how special it is to gather outdoors\, support local traditions\, and enjoy time together on the ice.
URL:https://www.mylonglake.com/event/mike-norris-fishing-derby-2026/
LOCATION:Raquette Lake Fire Department\, 178 NYS Route 28\, Raquette Lake\, NY\, 13436\, United States
CATEGORIES:Events,Upcoming,Winter Events
ATTACH;FMTTYPE=image/jpeg:https://www.mylonglake.com/wp-content/uploads/2026/01/2026-Raquette-Lake-Fish--scaled.jpg
END:VEVENT
END:VCALENDAR