BEGIN:VCALENDAR
VERSION:2.0
PRODID:-//Long Lake - ECPv6.15.17.1//NONSGML v1.0//EN
CALSCALE:GREGORIAN
METHOD:PUBLISH
X-ORIGINAL-URL:https://www.mylonglake.com
X-WR-CALDESC:Events for Long Lake
REFRESH-INTERVAL;VALUE=DURATION:PT1H
X-Robots-Tag:noindex
X-PUBLISHED-TTL:PT1H
BEGIN:VTIMEZONE
TZID:America/New_York
BEGIN:DAYLIGHT
TZOFFSETFROM:-0500
TZOFFSETTO:-0400
TZNAME:EDT
DTSTART:20220313T070000
END:DAYLIGHT
BEGIN:STANDARD
TZOFFSETFROM:-0400
TZOFFSETTO:-0500
TZNAME:EST
DTSTART:20221106T060000
END:STANDARD
BEGIN:DAYLIGHT
TZOFFSETFROM:-0500
TZOFFSETTO:-0400
TZNAME:EDT
DTSTART:20230312T070000
END:DAYLIGHT
BEGIN:STANDARD
TZOFFSETFROM:-0400
TZOFFSETTO:-0500
TZNAME:EST
DTSTART:20231105T060000
END:STANDARD
BEGIN:DAYLIGHT
TZOFFSETFROM:-0500
TZOFFSETTO:-0400
TZNAME:EDT
DTSTART:20240310T070000
END:DAYLIGHT
BEGIN:STANDARD
TZOFFSETFROM:-0400
TZOFFSETTO:-0500
TZNAME:EST
DTSTART:20241103T060000
END:STANDARD
END:VTIMEZONE
BEGIN:VEVENT
DTSTART;TZID=America/New_York:20230701T123000
DTEND;TZID=America/New_York:20230701T133000
DTSTAMP:20260421T044711
CREATED:20230627T112547Z
LAST-MODIFIED:20230627T112547Z
UID:10000374-1688214600-1688218200@www.mylonglake.com
SUMMARY:WinterBerry Homestead Traveling Farm
DESCRIPTION:Saturday\, July 1st 12:30pm -1:30pm\nWinterBerry Homestead\nTraveling Farm\, Meet and Greet Farm Animals\nLocation: CVW Long Lake Public Library
URL:https://www.mylonglake.com/event/winterberry-homestead-traveling-farm/
LOCATION:CV Whitney Long Lake Public Library\, 1195 Main Street\, Long Lake\, NY\, 12847\, United States
CATEGORIES:Events,Library,Summer Events,Upcoming
ATTACH;FMTTYPE=image/jpeg:https://www.mylonglake.com/wp-content/uploads/2023/06/angora-bunnies.jpg
END:VEVENT
BEGIN:VEVENT
DTSTART;TZID=America/New_York:20230630T130000
DTEND;TZID=America/New_York:20230630T140000
DTSTAMP:20260421T044711
CREATED:20230629T174105Z
LAST-MODIFIED:20230629T174105Z
UID:10000378-1688130000-1688133600@www.mylonglake.com
SUMMARY:Long Lake Library Presents Mark Manske - Adirondack Raptors
DESCRIPTION:Mark Manske\, Adirondack Raptors\, will be giving a live birds of prey presentation at the Mt. Sabattis Pavilion.\nFamily friendly. No cost to attend. All are welcome!
URL:https://www.mylonglake.com/event/long-lake-library-presents-mark-manske-adirondack-raptors-2/
LOCATION:Mt. Sabattis Pavilion\, 46 Pavilion Road\, Long Lake\, New York\, 12847\, United States
CATEGORIES:Library,Summer Events,Upcoming
ATTACH;FMTTYPE=image/jpeg:https://www.mylonglake.com/wp-content/uploads/2023/06/13458667_10157062048520181_4120553798534273981_o.jpg
END:VEVENT
BEGIN:VEVENT
DTSTART;TZID=America/New_York:20230127T140000
DTEND;TZID=America/New_York:20230127T160000
DTSTAMP:20260421T044711
CREATED:20230120T192902Z
LAST-MODIFIED:20230120T192902Z
UID:10000222-1674828000-1674835200@www.mylonglake.com
SUMMARY:Art Exhibit at Long Lake Library
DESCRIPTION:2-4pm. Yvette London and Nancy Halter open their new art exhibit at the Long Lake Library on Friday January 27th from 2-4pm with light refreshments served. The exhibit will be on display through the spring.
URL:https://www.mylonglake.com/event/art-exhibit-at-long-lake-library/
LOCATION:CV Whitney Long Lake Public Library\, 1195 Main Street\, Long Lake\, NY\, 12847\, United States
CATEGORIES:Upcoming,Winter Events
ATTACH;FMTTYPE=image/jpeg:https://www.mylonglake.com/wp-content/uploads/2022/11/Long-Lake-Library.jpg
END:VEVENT
END:VCALENDAR