BEGIN:VCALENDAR
VERSION:2.0
PRODID:-//Long Lake - ECPv6.15.17.1//NONSGML v1.0//EN
CALSCALE:GREGORIAN
METHOD:PUBLISH
X-WR-CALNAME:Long Lake
X-ORIGINAL-URL:https://www.mylonglake.com
X-WR-CALDESC:Events for Long Lake
REFRESH-INTERVAL;VALUE=DURATION:PT1H
X-Robots-Tag:noindex
X-PUBLISHED-TTL:PT1H
BEGIN:VTIMEZONE
TZID:America/New_York
BEGIN:DAYLIGHT
TZOFFSETFROM:-0500
TZOFFSETTO:-0400
TZNAME:EDT
DTSTART:20220313T070000
END:DAYLIGHT
BEGIN:STANDARD
TZOFFSETFROM:-0400
TZOFFSETTO:-0500
TZNAME:EST
DTSTART:20221106T060000
END:STANDARD
BEGIN:DAYLIGHT
TZOFFSETFROM:-0500
TZOFFSETTO:-0400
TZNAME:EDT
DTSTART:20230312T070000
END:DAYLIGHT
BEGIN:STANDARD
TZOFFSETFROM:-0400
TZOFFSETTO:-0500
TZNAME:EST
DTSTART:20231105T060000
END:STANDARD
BEGIN:DAYLIGHT
TZOFFSETFROM:-0500
TZOFFSETTO:-0400
TZNAME:EDT
DTSTART:20240310T070000
END:DAYLIGHT
BEGIN:STANDARD
TZOFFSETFROM:-0400
TZOFFSETTO:-0500
TZNAME:EST
DTSTART:20241103T060000
END:STANDARD
BEGIN:DAYLIGHT
TZOFFSETFROM:-0500
TZOFFSETTO:-0400
TZNAME:EDT
DTSTART:20250309T070000
END:DAYLIGHT
BEGIN:STANDARD
TZOFFSETFROM:-0400
TZOFFSETTO:-0500
TZNAME:EST
DTSTART:20251102T060000
END:STANDARD
END:VTIMEZONE
BEGIN:VEVENT
DTSTART;TZID=America/New_York:20240216T140000
DTEND;TZID=America/New_York:20240218T140000
DTSTAMP:20260420T153122
CREATED:20240214T122245Z
LAST-MODIFIED:20240214T122245Z
UID:10000431-1708092000-1708264800@www.mylonglake.com
SUMMARY:From Boats to Kazoos - Long Lake Historical Society Exhibit
DESCRIPTION:February 16th – 18th \nFrom Boats to Kazoo’s. Join the Long Lake Historical Society at the Long Lake Town Hall Nutrition Site for a small introductory exhibit\, “From Boats to Kazoos”  Photos\, artifacts and a Geo. W. Smith guideboat on display. \nLong Lake Nutrition Site – located in the back of the Long Lake Town Hall\n1204 Main Main Street\nLong Lake\, NY 12847 \nFriday 2/16 2pm – 6pm\nSaturday 2/17 10am – 6pm\nSunday 2/18 11am – 2pm \nAdditional Historical Society images will be on display at the Long Lake Mt. Sabattis Geiger Arena\, 6 Pavilion Lane\, Long Lake\, NY \n\n\n“Long Lake and other waters in the Town of Long Lake served for years as the principal highways and main streets of the community. It was natural\, then\, that the building of boats should become a leading occupation of the community. The well-known Adirondack guide boat is said to have originated there. George W. Smith succeeded to the trade from 1897 through 1930.” \nAber\, Ted\, and Stella (Brooks) King. The History of Hamilton County. Great Wilderness Books\, 1965
URL:https://www.mylonglake.com/event/from-boats-to-kazoos-long-lake-historical-society-exhibit/
LOCATION:Long Lake Town Hall\, 1204 Main Street\, Long Lake\, NY\, 12847\, United States
CATEGORIES:Events,Winter Events
ATTACH;FMTTYPE=image/jpeg:https://www.mylonglake.com/wp-content/uploads/2024/02/IMG_5985-scaled.jpeg
END:VEVENT
BEGIN:VEVENT
DTSTART;TZID=America/New_York:20230828T173000
DTEND;TZID=America/New_York:20230828T183000
DTSTAMP:20260420T153122
CREATED:20230608T154414Z
LAST-MODIFIED:20230608T154414Z
UID:10000332-1693243800-1693247400@www.mylonglake.com
SUMMARY:A Brief History of the Long Lake Kazoo Band - Long Lake Historical Society
DESCRIPTION:Join the Long Lake Historical Society for their 5:30pm Monthly Meeting followed up with a Brief History of the Long Lake Kazoo Band.
URL:https://www.mylonglake.com/event/a-brief-history-of-the-long-lake-kazoo-band-long-lake-historical-society/
LOCATION:Long Lake Town Hall\, 1204 Main Street\, Long Lake\, NY\, 12847\, United States
CATEGORIES:Events,Summer Events,Upcoming
ATTACH;FMTTYPE=image/jpeg:https://www.mylonglake.com/wp-content/uploads/2023/06/3-1991-05-kazoo-band-marched-in-new-york-city-desert-storm-parade.jpg
END:VEVENT
BEGIN:VEVENT
DTSTART;TZID=America/New_York:20230731T170000
DTEND;TZID=America/New_York:20230731T180000
DTSTAMP:20260420T153122
CREATED:20230608T154219Z
LAST-MODIFIED:20230608T154219Z
UID:10000331-1690822800-1690826400@www.mylonglake.com
SUMMARY:A Brief History of Round Island by Darla and Ben Shaw
DESCRIPTION:Long Lake Historical Society General meeting followed by a Brief History of Round Island by Darla and Ben Shaw. All are welcome to attend.
URL:https://www.mylonglake.com/event/a-brief-history-of-round-island-by-darla-and-ben-shaw/
LOCATION:Long Lake Town Hall\, 1204 Main Street\, Long Lake\, NY\, 12847\, United States
CATEGORIES:Events,Summer Events,Upcoming
ATTACH;FMTTYPE=image/jpeg:https://www.mylonglake.com/wp-content/uploads/2023/06/IMG_0400-scaled.jpg
END:VEVENT
BEGIN:VEVENT
DTSTART;TZID=America/New_York:20230210T180000
DTEND;TZID=America/New_York:20230210T210000
DTSTAMP:20260420T153122
CREATED:20221209T132628Z
LAST-MODIFIED:20221209T132628Z
UID:10000184-1676052000-1676062800@www.mylonglake.com
SUMMARY:Night of Music with Altered Tones
DESCRIPTION:MID WINTER FUN!!!\nThe Long Lake Historical Society is excited to announce we will be hosting a Night of Music with “Altered Tones” at the Adirondack Hotel in the Victorian Dining Room! Friday Feb 10\, 6-9pm with a possible surprise musical guest. Hear a 10 min talk on the history of the hotel\, by owner\, Carol Young as well! Free admission\, donations appreciated. Cash bar & Food available for purchase.\nHope to see you there!!!
URL:https://www.mylonglake.com/event/night-of-music-with-altered-tones/
LOCATION:Adirondack Hotel\, 1245 Main Street\, Long Lake\, 12847\, United States
CATEGORIES:Upcoming,Winter Events
ATTACH;FMTTYPE=image/jpeg:https://www.mylonglake.com/wp-content/uploads/2022/12/Adk-Hotel-Ebay.jpg
END:VEVENT
BEGIN:VEVENT
DTSTART;TZID=America/New_York:20230130T170000
DTEND;TZID=America/New_York:20230130T183000
DTSTAMP:20260420T153122
CREATED:20230120T194940Z
LAST-MODIFIED:20230120T194940Z
UID:10000223-1675098000-1675103400@www.mylonglake.com
SUMMARY:Historical Society Meeting
DESCRIPTION:JOIN US…Jan 30th\, 5pm at the Town Hall (across from school)\nHistorical Society Presentation:\n“Growing up in Long Lake as the son of the Town’s only Doctor”\npresented by our own\, John Hosley HOPE TO SEE YOU THERE!\nHouse on the right in photo below was Doc Hosley’s
URL:https://www.mylonglake.com/event/historical-society-meeting/
LOCATION:Long Lake Town Hall\, 1204 Main Street\, Long Lake\, NY\, 12847\, United States
CATEGORIES:Upcoming,Winter Events
ATTACH;FMTTYPE=image/jpeg:https://www.mylonglake.com/wp-content/uploads/2023/01/323213827_1119081325457241_3663793239057801223_n.jpg
END:VEVENT
END:VCALENDAR