BEGIN:VCALENDAR
VERSION:2.0
PRODID:-//Long Lake - ECPv6.15.17.1//NONSGML v1.0//EN
CALSCALE:GREGORIAN
METHOD:PUBLISH
X-ORIGINAL-URL:https://www.mylonglake.com
X-WR-CALDESC:Events for Long Lake
REFRESH-INTERVAL;VALUE=DURATION:PT1H
X-Robots-Tag:noindex
X-PUBLISHED-TTL:PT1H
BEGIN:VTIMEZONE
TZID:America/New_York
BEGIN:DAYLIGHT
TZOFFSETFROM:-0500
TZOFFSETTO:-0400
TZNAME:EDT
DTSTART:20220313T070000
END:DAYLIGHT
BEGIN:STANDARD
TZOFFSETFROM:-0400
TZOFFSETTO:-0500
TZNAME:EST
DTSTART:20221106T060000
END:STANDARD
BEGIN:DAYLIGHT
TZOFFSETFROM:-0500
TZOFFSETTO:-0400
TZNAME:EDT
DTSTART:20230312T070000
END:DAYLIGHT
BEGIN:STANDARD
TZOFFSETFROM:-0400
TZOFFSETTO:-0500
TZNAME:EST
DTSTART:20231105T060000
END:STANDARD
BEGIN:DAYLIGHT
TZOFFSETFROM:-0500
TZOFFSETTO:-0400
TZNAME:EDT
DTSTART:20240310T070000
END:DAYLIGHT
BEGIN:STANDARD
TZOFFSETFROM:-0400
TZOFFSETTO:-0500
TZNAME:EST
DTSTART:20241103T060000
END:STANDARD
BEGIN:DAYLIGHT
TZOFFSETFROM:-0500
TZOFFSETTO:-0400
TZNAME:EDT
DTSTART:20250309T070000
END:DAYLIGHT
BEGIN:STANDARD
TZOFFSETFROM:-0400
TZOFFSETTO:-0500
TZNAME:EST
DTSTART:20251102T060000
END:STANDARD
BEGIN:DAYLIGHT
TZOFFSETFROM:-0500
TZOFFSETTO:-0400
TZNAME:EDT
DTSTART:20260308T070000
END:DAYLIGHT
BEGIN:STANDARD
TZOFFSETFROM:-0400
TZOFFSETTO:-0500
TZNAME:EST
DTSTART:20261101T060000
END:STANDARD
END:VTIMEZONE
BEGIN:VEVENT
DTSTART;TZID=America/New_York:20250704T160000
DTEND;TZID=America/New_York:20250704T190000
DTSTAMP:20260420T115114
CREATED:20250620T143032Z
LAST-MODIFIED:20250620T143032Z
UID:10000740-1751644800-1751655600@www.mylonglake.com
SUMMARY:LL Fire Department July 4th Cookout
DESCRIPTION:Join the Long Lake Fire Department on the Long Lake Town Beach for their infamous Sausage\, Peppers & Onions Cook-out! Starting at 4pm at the Long Lake Town Beach. \n2025 marks their 90th Birthday and they will have Anniversary Challenge Coins and Supporter T-Shirts Available. Stop on by and enjoy this long-standing Long Lake Tradition. \nCongratulations Long Lake Fire Department on 90 years!
URL:https://www.mylonglake.com/event/ll-fire-department-july-4th-cookout/
LOCATION:Long Lake Town Beach
CATEGORIES:Summer Events,Upcoming
ATTACH;FMTTYPE=image/jpeg:https://www.mylonglake.com/wp-content/uploads/2025/06/IMG_8104.jpg
END:VEVENT
BEGIN:VEVENT
DTSTART;TZID=America/New_York:20250217T163000
DTEND;TZID=America/New_York:20250217T190000
DTSTAMP:20260420T115114
CREATED:20250124T130838Z
LAST-MODIFIED:20250124T130838Z
UID:10000672-1739809800-1739818800@www.mylonglake.com
SUMMARY:Pork Dinner 2025 - Benefit LL Fire Department
DESCRIPTION:Pork Dinner to benefit the Long Lake Volunteer Fire Department.  4:30-7pm TAKE OUT ONLY $20  Please make a reservation with Amber at 518-624-3088 no later than Thursday\, February 13th. \n 
URL:https://www.mylonglake.com/event/pork-dinner-2025-benefit-ll-fire-department/
LOCATION:Long Lake Fire Hall\, 111 South Hill Road\, Long Lake\, NY
CATEGORIES:Upcoming,Winter Events
ATTACH;FMTTYPE=image/jpeg:https://www.mylonglake.com/wp-content/uploads/2024/02/Old-Fashioned-Pork-Roast-with-Vegetables-and-Gravyx.jpg
END:VEVENT
BEGIN:VEVENT
DTSTART;TZID=America/New_York:20240219T163000
DTEND;TZID=America/New_York:20240219T190000
DTSTAMP:20260420T115114
CREATED:20240208T151354Z
LAST-MODIFIED:20240208T151354Z
UID:10000430-1708360200-1708369200@www.mylonglake.com
SUMMARY:Fire Department Pork Dinner
DESCRIPTION:Pork Dinner to benefit the Long Lake Volunteer Fire Department.  430-7pm TAKE OUT ONLY $20  Please make a reservation with Amber at 518-624-3088 no later than Thursday\, February 15th.
URL:https://www.mylonglake.com/event/fire-department-pork-dinner/
LOCATION:Long Lake Fire Hall\, 111 South Hill Road\, Long Lake\, NY
CATEGORIES:Upcoming
ATTACH;FMTTYPE=image/jpeg:https://www.mylonglake.com/wp-content/uploads/2024/02/IMG_20240208_083111.jpg
END:VEVENT
BEGIN:VEVENT
DTSTART;TZID=America/New_York:20231018T183000
DTEND;TZID=America/New_York:20231018T193000
DTSTAMP:20260420T115114
CREATED:20230927T152140Z
LAST-MODIFIED:20230927T152140Z
UID:10000397-1697653800-1697657400@www.mylonglake.com
SUMMARY:LL Fire Dept Annual Budget Hearing
DESCRIPTION:LEGAL NOTICE \nThe Board of Fire Commissioners of the Long Lake fire District #1 will hold its’ Annual Budget Hearing on October 18th\, 2023 Commencing at 6:00-6:30 p.m. at the Fire Station located at 111 South Hill Road\, in Long Lake\, NY.  The Commissioners Regular meeting will commence as early as 6:30 p.m.\, but no later than 7:00 p.m. also on October 18\, 2023 \nA copy of the proposed budget will be available at the hearing and at the office of the Town Clerk of the Town of Long Lake where it may be inspected by any interested person during office hours. \n\nAnthony Clark\, \nSecretary /Treasurer \nLong Lake Fire District #1
URL:https://www.mylonglake.com/event/ll-fire-dept-annual-budget-hearing/
LOCATION:Long Lake Fire Hall\, 111 South Hill Road\, Long Lake\, NY
CATEGORIES:Fall Events,Upcoming
ATTACH;FMTTYPE=image/jpeg:https://www.mylonglake.com/wp-content/uploads/2022/10/IMG_7325-Fire-Department-Long-Lake-flat.jpg
END:VEVENT
BEGIN:VEVENT
DTSTART;TZID=America/New_York:20230220T163000
DTEND;TZID=America/New_York:20230220T190000
DTSTAMP:20260420T115114
CREATED:20230201T184917Z
LAST-MODIFIED:20230201T184917Z
UID:10000277-1676910600-1676919600@www.mylonglake.com
SUMMARY:Pork Dinner Take Out
DESCRIPTION:The Long Lake Fire Department will be making a Pork Dinner @ the Fire Station for take out only for a $15 donation. Please contact any LLFD member for a pre sale ticket. Walk ins also welcome. Call 518-624-4599 and leave a message to preorder a meal.
URL:https://www.mylonglake.com/event/pork-dinner-take-out/
LOCATION:Long Lake Fire Hall\, 111 South Hill Road\, Long Lake\, NY
CATEGORIES:Upcoming,Winter Events
ATTACH;FMTTYPE=image/jpeg:https://www.mylonglake.com/wp-content/uploads/2023/02/IMG_4218-scaled.jpeg
END:VEVENT
END:VCALENDAR