BEGIN:VCALENDAR
VERSION:2.0
PRODID:-//Long Lake - ECPv6.15.17.1//NONSGML v1.0//EN
CALSCALE:GREGORIAN
METHOD:PUBLISH
X-ORIGINAL-URL:https://www.mylonglake.com
X-WR-CALDESC:Events for Long Lake
REFRESH-INTERVAL;VALUE=DURATION:PT1H
X-Robots-Tag:noindex
X-PUBLISHED-TTL:PT1H
BEGIN:VTIMEZONE
TZID:America/New_York
BEGIN:DAYLIGHT
TZOFFSETFROM:-0500
TZOFFSETTO:-0400
TZNAME:EDT
DTSTART:20240310T070000
END:DAYLIGHT
BEGIN:STANDARD
TZOFFSETFROM:-0400
TZOFFSETTO:-0500
TZNAME:EST
DTSTART:20241103T060000
END:STANDARD
BEGIN:DAYLIGHT
TZOFFSETFROM:-0500
TZOFFSETTO:-0400
TZNAME:EDT
DTSTART:20250309T070000
END:DAYLIGHT
BEGIN:STANDARD
TZOFFSETFROM:-0400
TZOFFSETTO:-0500
TZNAME:EST
DTSTART:20251102T060000
END:STANDARD
BEGIN:DAYLIGHT
TZOFFSETFROM:-0500
TZOFFSETTO:-0400
TZNAME:EDT
DTSTART:20260308T070000
END:DAYLIGHT
BEGIN:STANDARD
TZOFFSETFROM:-0400
TZOFFSETTO:-0500
TZNAME:EST
DTSTART:20261101T060000
END:STANDARD
END:VTIMEZONE
BEGIN:VEVENT
DTSTART;TZID=America/New_York:20251217T170000
DTEND;TZID=America/New_York:20251217T210000
DTSTAMP:20260419T105925
CREATED:20251203T182300Z
LAST-MODIFIED:20251203T182300Z
UID:10001649-1765990800-1766005200@www.mylonglake.com
SUMMARY:Holiday Lights Contest
DESCRIPTION:Unlease that inner Clark Griswold and get your home or business all decked out and lit up forthe holidays!  Open to all LL & Raquette Lake residents and businesses. Judging will take place on Wednesday\, December 17th after 5pm! Cash prizes for residents. \n  \nLong Lakers please sign up in advance at 518-624-3077 and Raquette Lake let Kat know or email katybug182@hotmail.com You must sign up to be included in the judging! \n  \n 
URL:https://www.mylonglake.com/event/holiday-lights-contest-3/
LOCATION:NY
CATEGORIES:News,Upcoming,Winter Events
ATTACH;FMTTYPE=image/jpeg:https://www.mylonglake.com/wp-content/uploads/2025/12/HolidayLightsPoster_ForFB.jpg
ORGANIZER;CN="Town of Long Lake Parks & Recreation":MAILTO:longlake@mylonglake.com
END:VEVENT
BEGIN:VEVENT
DTSTART;TZID=America/New_York:20251217T180000
DTEND;TZID=America/New_York:20251217T190000
DTSTAMP:20260419T105925
CREATED:20251203T184556Z
LAST-MODIFIED:20251203T184556Z
UID:10001653-1765994400-1765998000@www.mylonglake.com
SUMMARY:Cookie Exchange & Ornament Craft Night
DESCRIPTION:Join in on the fun for this festive evening! If you are marking cookies\, please bring 1-3 dozen to sample/exchange. There will be a $10 fee to make ornaments. All ages and families welcome.
URL:https://www.mylonglake.com/event/cookie-exchange-ornament-craft-night/
LOCATION:Raquette Lake Tap Room\, 4 Main Street\, Raquette Lake\, 13436\, United States
CATEGORIES:Raquette Lake,Upcoming,Winter Events
ATTACH;FMTTYPE=image/jpeg:https://www.mylonglake.com/wp-content/uploads/2025/12/AdobeStock_297905029-scaled.jpeg
END:VEVENT
END:VCALENDAR