BEGIN:VCALENDAR
VERSION:2.0
PRODID:-//Long Lake - ECPv6.15.17.1//NONSGML v1.0//EN
CALSCALE:GREGORIAN
METHOD:PUBLISH
X-WR-CALNAME:Long Lake
X-ORIGINAL-URL:https://www.mylonglake.com
X-WR-CALDESC:Events for Long Lake
REFRESH-INTERVAL;VALUE=DURATION:PT1H
X-Robots-Tag:noindex
X-PUBLISHED-TTL:PT1H
BEGIN:VTIMEZONE
TZID:America/New_York
BEGIN:DAYLIGHT
TZOFFSETFROM:-0500
TZOFFSETTO:-0400
TZNAME:EDT
DTSTART:20250309T070000
END:DAYLIGHT
BEGIN:STANDARD
TZOFFSETFROM:-0400
TZOFFSETTO:-0500
TZNAME:EST
DTSTART:20251102T060000
END:STANDARD
BEGIN:DAYLIGHT
TZOFFSETFROM:-0500
TZOFFSETTO:-0400
TZNAME:EDT
DTSTART:20260308T070000
END:DAYLIGHT
BEGIN:STANDARD
TZOFFSETFROM:-0400
TZOFFSETTO:-0500
TZNAME:EST
DTSTART:20261101T060000
END:STANDARD
BEGIN:DAYLIGHT
TZOFFSETFROM:-0500
TZOFFSETTO:-0400
TZNAME:EDT
DTSTART:20270314T070000
END:DAYLIGHT
BEGIN:STANDARD
TZOFFSETFROM:-0400
TZOFFSETTO:-0500
TZNAME:EST
DTSTART:20271107T060000
END:STANDARD
END:VTIMEZONE
BEGIN:VEVENT
DTSTART;TZID=America/New_York:20260704T100000
DTEND;TZID=America/New_York:20260704T220000
DTSTAMP:20260421T125538
CREATED:20260402T163342Z
LAST-MODIFIED:20260417T155941Z
UID:10001687-1783159200-1783202400@www.mylonglake.com
SUMMARY:July 4th - Celebrate 250th in Long Lake!
DESCRIPTION:10am Kids Games at the Long Lake Ball Field. Free and open to all ages. \n12pm Beach -The annual Fourth of July Celebration begins at the Town Beach\, sponsored by the Town of Long Lake. Live music\, food\, and activities continue throughout the evening. \n12pm Strawberry Shortcake served by the Long Lake Lions Club (until sold out) \n1pm – LIVE MUSIC at the Beach – Featuring Daydream Fountain \n4pm Long Lake Fire Department Cookout at the Town Beach featuring sausage and peppers. \n4pm Penelope the Clown will be at the Town Beach Gazebo with face painting and balloon animals for kids. \n5pm Bed Races return to Long Lake for 2026. * Stay tuned for more details! \n6:30pm Grit N Grace performs live. Since 2011\, the band has delivered high-energy country\, rock\, and dance music across New York and neighboring states. \n9:30pm – ish – At dark\, FIREWORKS light up the sky over Long Lake—viewable from the beach\, by boat\, or from Mt. Sabattis. \nFor more information\, call 518-624-3077 or visit www.mylonglake.com. In the event of rain\, activities move to the Mt. Sabattis Pavilion. \nThe Long Lake Little Bus will run from the Municipal Lot next to St. Henry’s Church on Main Street\, providing transportation to and from the Town Beach within a 3.5-mile radius. \n\nMusic: \n\n1pm – 3pm\nDaydream Fountain is a psychedelic improv-rock band based out of New York State’s Capital Region. Band members Reckless Barb\, Planetary Jones\, and Nighttime Bill have been creating music together since 2018. Collectively harnessing their imaginations over the years has resulted in a deluge of emotionally relevant material that feeds into an excitingly dynamic demonstration of musical prowess. By distilling and curating their musical journey\, the band has prepared a unique listening experience sure to satisfy any inquisitive mind that is willing to observe Daydream Fountain. \n6:30pm – 9:30pm\nGrit N Grace\nSince 2011 Grit N Grace has been entertaining audiences regionally in NY as well as neighboring states with their unique blend of high energy country\, rock\, and dance music for a show that is enjoyable for all ages.
URL:https://www.mylonglake.com/event/july-4th-celebrate-250th-in-long-lake/
LOCATION:Long Lake Town Beach\, 1258 Main Street\, Long Lake\, New York\, 12847\, United States
CATEGORIES:Events,Summer Events,Upcoming
ATTACH;FMTTYPE=image/heic:https://www.mylonglake.com/wp-content/uploads/2026/03/IMG_0505.heic
ORGANIZER;CN="Town of Long Lake Parks & Recreation":MAILTO:longlake@mylonglake.com
END:VEVENT
END:VCALENDAR