BEGIN:VCALENDAR
VERSION:2.0
PRODID:-//Long Lake - ECPv6.15.17.1//NONSGML v1.0//EN
CALSCALE:GREGORIAN
METHOD:PUBLISH
X-ORIGINAL-URL:https://www.mylonglake.com
X-WR-CALDESC:Events for Long Lake
REFRESH-INTERVAL;VALUE=DURATION:PT1H
X-Robots-Tag:noindex
X-PUBLISHED-TTL:PT1H
BEGIN:VTIMEZONE
TZID:UTC
BEGIN:STANDARD
TZOFFSETFROM:+0000
TZOFFSETTO:+0000
TZNAME:UTC
DTSTART:20220101T000000
END:STANDARD
END:VTIMEZONE
BEGIN:VEVENT
DTSTART;TZID=UTC:20230526T090000
DTEND;TZID=UTC:20230528T170000
DTSTAMP:20260424T173823
CREATED:20220317T180353Z
LAST-MODIFIED:20221014T004452Z
UID:10000022-1685091600-1685293200@www.mylonglake.com
SUMMARY:Great Adirondack Garage Sale
DESCRIPTION:The Great Adirondack Garage sale spans communities from Long Lake to Raquette Lake\, Newcomb\, Inlet\, Lake Pleasant and Speculator and beyond. Find hidden treasures or set up a sale. To sign up call 518-624-3077 or sign up on line at \n  \nwww.greatadirondackgaragesale.com \n 
URL:https://www.mylonglake.com/event/great-adirondack-garage-sale/
CATEGORIES:Spring Events
ATTACH;FMTTYPE=image/jpeg:https://www.mylonglake.com/wp-content/uploads/2022/03/great-adirondack-garage-sale-GAGS-2016-Long-Lake.jpg
ORGANIZER;CN="Town of Long Lake Parks & Recreation":MAILTO:longlake@mylonglake.com
END:VEVENT
END:VCALENDAR