BEGIN:VCALENDAR
VERSION:2.0
PRODID:-//Long Lake - ECPv6.15.17.1//NONSGML v1.0//EN
CALSCALE:GREGORIAN
METHOD:PUBLISH
X-WR-CALNAME:Long Lake
X-ORIGINAL-URL:https://www.mylonglake.com
X-WR-CALDESC:Events for Long Lake
REFRESH-INTERVAL;VALUE=DURATION:PT1H
X-Robots-Tag:noindex
X-PUBLISHED-TTL:PT1H
BEGIN:VTIMEZONE
TZID:America/New_York
BEGIN:DAYLIGHT
TZOFFSETFROM:-0500
TZOFFSETTO:-0400
TZNAME:EDT
DTSTART:20220313T070000
END:DAYLIGHT
BEGIN:STANDARD
TZOFFSETFROM:-0400
TZOFFSETTO:-0500
TZNAME:EST
DTSTART:20221106T060000
END:STANDARD
BEGIN:DAYLIGHT
TZOFFSETFROM:-0500
TZOFFSETTO:-0400
TZNAME:EDT
DTSTART:20230312T070000
END:DAYLIGHT
BEGIN:STANDARD
TZOFFSETFROM:-0400
TZOFFSETTO:-0500
TZNAME:EST
DTSTART:20231105T060000
END:STANDARD
BEGIN:DAYLIGHT
TZOFFSETFROM:-0500
TZOFFSETTO:-0400
TZNAME:EDT
DTSTART:20240310T070000
END:DAYLIGHT
BEGIN:STANDARD
TZOFFSETFROM:-0400
TZOFFSETTO:-0500
TZNAME:EST
DTSTART:20241103T060000
END:STANDARD
END:VTIMEZONE
BEGIN:VEVENT
DTSTART;TZID=America/New_York:20230523T180000
DTEND;TZID=America/New_York:20230523T200000
DTSTAMP:20260424T144811
CREATED:20230509T160613Z
LAST-MODIFIED:20230509T160613Z
UID:10000298-1684864800-1684872000@www.mylonglake.com
SUMMARY:Public Info Session - Raquette Lake
DESCRIPTION:Public information session for the Proposed Raquette Lake Battery Energy Storage System. \nAll are welcome to attend.
URL:https://www.mylonglake.com/event/public-info-session-raquette-lake/
LOCATION:Raquette Lake School\, 115 NYS Route 28\, Raquette Lake\, NY\, 13436\, United States
CATEGORIES:Spring Events,Upcoming
ATTACH;FMTTYPE=image/jpeg:https://www.mylonglake.com/wp-content/uploads/2023/05/Public-Info-Session-copy.jpg
END:VEVENT
END:VCALENDAR