BEGIN:VCALENDAR
VERSION:2.0
PRODID:-//Long Lake - ECPv6.15.17.1//NONSGML v1.0//EN
CALSCALE:GREGORIAN
METHOD:PUBLISH
X-WR-CALNAME:Long Lake
X-ORIGINAL-URL:https://www.mylonglake.com
X-WR-CALDESC:Events for Long Lake
REFRESH-INTERVAL;VALUE=DURATION:PT1H
X-Robots-Tag:noindex
X-PUBLISHED-TTL:PT1H
BEGIN:VTIMEZONE
TZID:America/New_York
BEGIN:DAYLIGHT
TZOFFSETFROM:-0500
TZOFFSETTO:-0400
TZNAME:EDT
DTSTART:20220313T070000
END:DAYLIGHT
BEGIN:STANDARD
TZOFFSETFROM:-0400
TZOFFSETTO:-0500
TZNAME:EST
DTSTART:20221106T060000
END:STANDARD
BEGIN:DAYLIGHT
TZOFFSETFROM:-0500
TZOFFSETTO:-0400
TZNAME:EDT
DTSTART:20230312T070000
END:DAYLIGHT
BEGIN:STANDARD
TZOFFSETFROM:-0400
TZOFFSETTO:-0500
TZNAME:EST
DTSTART:20231105T060000
END:STANDARD
BEGIN:DAYLIGHT
TZOFFSETFROM:-0500
TZOFFSETTO:-0400
TZNAME:EDT
DTSTART:20240310T070000
END:DAYLIGHT
BEGIN:STANDARD
TZOFFSETFROM:-0400
TZOFFSETTO:-0500
TZNAME:EST
DTSTART:20241103T060000
END:STANDARD
END:VTIMEZONE
BEGIN:VTIMEZONE
TZID:America/New_York
BEGIN:DAYLIGHT
TZOFFSETFROM:-0500
TZOFFSETTO:-0400
TZNAME:EDT
DTSTART:20220313T070000
END:DAYLIGHT
BEGIN:STANDARD
TZOFFSETFROM:-0400
TZOFFSETTO:-0500
TZNAME:EST
DTSTART:20221106T060000
END:STANDARD
BEGIN:DAYLIGHT
TZOFFSETFROM:-0500
TZOFFSETTO:-0400
TZNAME:EDT
DTSTART:20230312T070000
END:DAYLIGHT
BEGIN:STANDARD
TZOFFSETFROM:-0400
TZOFFSETTO:-0500
TZNAME:EST
DTSTART:20231105T060000
END:STANDARD
BEGIN:DAYLIGHT
TZOFFSETFROM:-0500
TZOFFSETTO:-0400
TZNAME:EDT
DTSTART:20240310T070000
END:DAYLIGHT
BEGIN:STANDARD
TZOFFSETFROM:-0400
TZOFFSETTO:-0500
TZNAME:EST
DTSTART:20241103T060000
END:STANDARD
END:VTIMEZONE
BEGIN:VEVENT
DTSTART;TZID=America/New_York:20230519T080000
DTEND;TZID=America/New_York:20230520T170000
DTSTAMP:20260424T114405
CREATED:20220317T032101Z
LAST-MODIFIED:20230509T150215Z
UID:10000020-1684483200-1684602000@www.mylonglake.com
SUMMARY:Lamphear Memorial Fishing Derby
DESCRIPTION:  \n  \n\nRaquette Lake \n\nRaquette Lake\, NY 13360\, USA\n\n\n\n\n \n5p.m. the Lamphear Memorial Fishing Derby is held on Raquette Lake. Registration and weigh-in will be held at the Tap Room in Raquette Lake. Adults are $20/person and youth 16and under are $1.\n\n  \n  \n 
URL:https://www.mylonglake.com/event/lamphear-memorial-fishing-derby/
LOCATION:Raquette Lake Village Green\, 1 Main Street\, Raquette Lake\, New York\, 13436\, United States
CATEGORIES:Spring Events
ATTACH;FMTTYPE=image/jpeg:https://www.mylonglake.com/wp-content/uploads/2022/03/187645803_10225270798255295_1033349068761315701_n.jpg
END:VEVENT
BEGIN:VEVENT
DTSTART;TZID=America/New_York:20230520T080000
DTEND;TZID=America/New_York:20230520T170000
DTSTAMP:20260424T114405
CREATED:20220317T032925Z
LAST-MODIFIED:20230411T184036Z
UID:10000021-1684569600-1684602000@www.mylonglake.com
SUMMARY:Long Lake Fish & Game Club Annual 100 Bird Trap Shoot
DESCRIPTION:100 Bird Shoot “Spring Open” – 21 May 2022\nSign-up begins at 7:00 am Shooting starts at 8:00 am\nCash Prizes with Lewis Awards. For more info email ll.fish.game.club@gmail.com
URL:https://www.mylonglake.com/event/long-lake-fish-game-club-annual-100-bird-trap-shoot/
LOCATION:LL Fish & Game Club\, 8196 Newcomb Road\, Long Lake\, 12847\, United States
CATEGORIES:Spring Events
ATTACH;FMTTYPE=image/jpeg:https://www.mylonglake.com/wp-content/uploads/2022/03/08.-Trap-Shooting-scaled.jpg
END:VEVENT
BEGIN:VEVENT
DTSTART;TZID=America/New_York:20230520T090000
DTEND;TZID=America/New_York:20230520T153000
DTSTAMP:20260424T114405
CREATED:20230411T180048Z
LAST-MODIFIED:20230411T180249Z
UID:10000288-1684573200-1684596600@www.mylonglake.com
SUMMARY:Defensive Driving Class
DESCRIPTION:9am. Long Lake Town Hall. Take the Defensive Driving Course with Don Marino at the Long Lake Town Hall\, 1204 Main Street\, Long Lake\, NY.   \nClass from 9am until 3:30pm. 4 Point Reduction and 10% Insurance Savings. \nCall 315-859-1195 to pre-register.  Class is $35.
URL:https://www.mylonglake.com/event/defensive-driving-class/
CATEGORIES:Events,Spring Events
ATTACH;FMTTYPE=image/jpeg:https://www.mylonglake.com/wp-content/uploads/2023/04/funny-driving-memes-1.jpg
ORGANIZER;CN="Long Lake Town Board":MAILTO:supervisor@mylonglake.com
END:VEVENT
END:VCALENDAR