BEGIN:VCALENDAR
VERSION:2.0
PRODID:-//Long Lake - ECPv6.15.17.1//NONSGML v1.0//EN
CALSCALE:GREGORIAN
METHOD:PUBLISH
X-WR-CALNAME:Long Lake
X-ORIGINAL-URL:https://www.mylonglake.com
X-WR-CALDESC:Events for Long Lake
REFRESH-INTERVAL;VALUE=DURATION:PT1H
X-Robots-Tag:noindex
X-PUBLISHED-TTL:PT1H
BEGIN:VTIMEZONE
TZID:America/New_York
BEGIN:DAYLIGHT
TZOFFSETFROM:-0500
TZOFFSETTO:-0400
TZNAME:EDT
DTSTART:20220313T070000
END:DAYLIGHT
BEGIN:STANDARD
TZOFFSETFROM:-0400
TZOFFSETTO:-0500
TZNAME:EST
DTSTART:20221106T060000
END:STANDARD
BEGIN:DAYLIGHT
TZOFFSETFROM:-0500
TZOFFSETTO:-0400
TZNAME:EDT
DTSTART:20230312T070000
END:DAYLIGHT
BEGIN:STANDARD
TZOFFSETFROM:-0400
TZOFFSETTO:-0500
TZNAME:EST
DTSTART:20231105T060000
END:STANDARD
BEGIN:DAYLIGHT
TZOFFSETFROM:-0500
TZOFFSETTO:-0400
TZNAME:EDT
DTSTART:20240310T070000
END:DAYLIGHT
BEGIN:STANDARD
TZOFFSETFROM:-0400
TZOFFSETTO:-0500
TZNAME:EST
DTSTART:20241103T060000
END:STANDARD
END:VTIMEZONE
BEGIN:VEVENT
DTSTART;TZID=America/New_York:20230517T190000
DTEND;TZID=America/New_York:20230517T210000
DTSTAMP:20260424T062952
CREATED:20230411T175805Z
LAST-MODIFIED:20230411T175805Z
UID:10000287-1684350000-1684357200@www.mylonglake.com
SUMMARY:Trivia Night
DESCRIPTION:7pm. Adirondack Hotel. Trivia Night is back! Come test your knowledge against the Trivia Tsar for your chance to win prizes\, bragging rights\, and points towards the Trivia Master Cup. \n 
URL:https://www.mylonglake.com/event/trivia-night-6/
LOCATION:Adirondack Hotel\, 1245 Main Street\, Long Lake\, 12847\, United States
CATEGORIES:Events,Winter Events
ATTACH;FMTTYPE=image/gif:https://www.mylonglake.com/wp-content/uploads/2023/04/trivia-night.gif
END:VEVENT
END:VCALENDAR