BEGIN:VCALENDAR
VERSION:2.0
PRODID:-//Long Lake - ECPv6.15.17.1//NONSGML v1.0//EN
CALSCALE:GREGORIAN
METHOD:PUBLISH
X-WR-CALNAME:Long Lake
X-ORIGINAL-URL:https://www.mylonglake.com
X-WR-CALDESC:Events for Long Lake
REFRESH-INTERVAL;VALUE=DURATION:PT1H
X-Robots-Tag:noindex
X-PUBLISHED-TTL:PT1H
BEGIN:VTIMEZONE
TZID:America/New_York
BEGIN:DAYLIGHT
TZOFFSETFROM:-0500
TZOFFSETTO:-0400
TZNAME:EDT
DTSTART:20220313T070000
END:DAYLIGHT
BEGIN:STANDARD
TZOFFSETFROM:-0400
TZOFFSETTO:-0500
TZNAME:EST
DTSTART:20221106T060000
END:STANDARD
BEGIN:DAYLIGHT
TZOFFSETFROM:-0500
TZOFFSETTO:-0400
TZNAME:EDT
DTSTART:20230312T070000
END:DAYLIGHT
BEGIN:STANDARD
TZOFFSETFROM:-0400
TZOFFSETTO:-0500
TZNAME:EST
DTSTART:20231105T060000
END:STANDARD
BEGIN:DAYLIGHT
TZOFFSETFROM:-0500
TZOFFSETTO:-0400
TZNAME:EDT
DTSTART:20240310T070000
END:DAYLIGHT
BEGIN:STANDARD
TZOFFSETFROM:-0400
TZOFFSETTO:-0500
TZNAME:EST
DTSTART:20241103T060000
END:STANDARD
END:VTIMEZONE
BEGIN:VEVENT
DTSTART;TZID=America/New_York:20230110T080000
DTEND;TZID=America/New_York:20230320T170000
DTSTAMP:20260422T014856
CREATED:20230110T162326Z
LAST-MODIFIED:20230110T162326Z
UID:10000210-1673337600-1679331600@www.mylonglake.com
SUMMARY:Winter Wonderland Bingo
DESCRIPTION:Winter Wonderland Bingo – on-going all until March 20th. Participants pick up a playing card at any area businesses in Long Lake or Raquette Lake. Get a Bingo and win a prize\, fill out the whole card and you’re eligible for the final prize drawing. \nActivities include attending events\, Winter Carnivals\, eating out\, x-c skiing\, snowmobiling\, sledding\, ice fishing and there’s always the Free spot! All activities must be completed in Long Lake or Raquette Lake. Submit photo proof or mail the card in to Long Lake PRT\, PO Box 496\, Long Lake\, NY 12847 or email events@mylonglake.com
URL:https://www.mylonglake.com/event/winter-wonderland-bingo/
CATEGORIES:Upcoming,Winter Events
ATTACH;FMTTYPE=image/jpeg:https://www.mylonglake.com/wp-content/uploads/2023/01/WW-2023-Bingo.jpg
ORGANIZER;CN="Town of Long Lake Parks & Recreation":MAILTO:longlake@mylonglake.com
END:VEVENT
BEGIN:VEVENT
DTSTART;TZID=America/New_York:20230217T080000
DTEND;TZID=America/New_York:20230226T170000
DTSTAMP:20260422T014856
CREATED:20221228T161320Z
LAST-MODIFIED:20230112T184911Z
UID:10000203-1676620800-1677430800@www.mylonglake.com
SUMMARY:Restaurant Week
DESCRIPTION:Long Lake and Raquette Lake. The five eateries taking part are the Raquette Lake Tap Room\, The Long View Lodge\, the Long Lake Diner/Owl’s Head Pub\, the Adirondack Hotel\, and the Adk Trading Post.  \n  \nEat at each restaurant in Long Lake and Raquette Lake from Friday February 17th to Friday February 26th. Anyone who completes the entire punch card can submit it to the Parks & Recreation Department to be entered into a drawing for a grand prize\, as well as two consolation prizes. No purchase of the punch card is necessary\, and some businesses will feature Restaurant Week menus or specials. For more information call 518-624-3077 or email events@mylonglake.com. \nStay tuned for updates!
URL:https://www.mylonglake.com/event/restaurant-week/
CATEGORIES:Events,Upcoming,Winter Events
ATTACH;FMTTYPE=image/jpeg:https://www.mylonglake.com/wp-content/uploads/2022/12/2023.02-Restaurant-Week-copy-2-scaled.jpg
ORGANIZER;CN="Town of Long Lake Parks & Recreation":MAILTO:longlake@mylonglake.com
END:VEVENT
BEGIN:VEVENT
DTSTART;TZID=America/New_York:20230224T183000
DTEND;TZID=America/New_York:20230224T200000
DTSTAMP:20260422T014856
CREATED:20230206T160517Z
LAST-MODIFIED:20230206T160517Z
UID:10000280-1677263400-1677268800@www.mylonglake.com
SUMMARY:Dinner and a Movie
DESCRIPTION:A new dining event for 2023! Looking for a way to escape the doldrums of winter without leaving town? Dinner & A Movie will rotate between each restaurant in January\, February and March\, head out to a local establishment for dinner and show. There is no cost for this event beyond the food and beverages at each business.\n\nSignup is highly encouraged to help the restaurants\, and can be done by calling 518-624-3077 or emailing events@mylonglake.com.\n\nFebruary’s movie will be Top Gun: Maverick \n\nAfter thirty years\, Maverick is still pushing the envelope as a top naval aviator\, but must confront ghosts of his past when he leads TOP GUN’s elite graduates on a mission that demands the ultimate sacrifice from those chosen to fly it.\n\n\nViewing this movie at the Diner will also get you a box on your Winter Wonderland Bingo Card!
URL:https://www.mylonglake.com/event/dinner-and-a-movie-2/
LOCATION:Long Lake Diner
CATEGORIES:Upcoming,Winter Events
ATTACH;FMTTYPE=image/jpeg:https://www.mylonglake.com/wp-content/uploads/2023/02/TGMAV_SAlone_16_9_1920x1080_1781067_1920x1080.jpg
ORGANIZER;CN="Town of Long Lake Parks & Recreation":MAILTO:longlake@mylonglake.com
END:VEVENT
BEGIN:VEVENT
DTSTART;TZID=America/New_York:20230224T183000
DTEND;TZID=America/New_York:20230224T220000
DTSTAMP:20260422T014856
CREATED:20230112T205519Z
LAST-MODIFIED:20230215T203321Z
UID:10000215-1677263400-1677276000@www.mylonglake.com
SUMMARY:Pizza Party at Geiger Arena
DESCRIPTION:NEW TIME – Pizza Party starts at 6pm!  \nClose out Winter Wonderland Week with a pizza party sponsored by the Town of Long Lake Parks & Rec. Department at the Geiger Arena from 600-10pm. Enjoy free skating and sledding under the stars\, with a bonfire in our custom Long Lake fire pit\, and pizza and hot cocoa to warm you up.
URL:https://www.mylonglake.com/event/pizza-party-at-geiger-arena/
LOCATION:Mt. Sabattis Geiger Arena\, 6 Pavilion Way\, Long Lake\, NY\, 12847\, United States
CATEGORIES:Upcoming,Winter Events
ATTACH;FMTTYPE=image/jpeg:https://www.mylonglake.com/wp-content/uploads/2023/01/2023.02.24-Skating-Party-copy-scaled.jpg
ORGANIZER;CN="Town of Long Lake Parks & Recreation":MAILTO:longlake@mylonglake.com
END:VEVENT
END:VCALENDAR