BEGIN:VCALENDAR
VERSION:2.0
PRODID:-//Long Lake - ECPv6.15.17.1//NONSGML v1.0//EN
CALSCALE:GREGORIAN
METHOD:PUBLISH
X-ORIGINAL-URL:https://www.mylonglake.com
X-WR-CALDESC:Events for Long Lake
REFRESH-INTERVAL;VALUE=DURATION:PT1H
X-Robots-Tag:noindex
X-PUBLISHED-TTL:PT1H
BEGIN:VTIMEZONE
TZID:America/New_York
BEGIN:DAYLIGHT
TZOFFSETFROM:-0500
TZOFFSETTO:-0400
TZNAME:EDT
DTSTART:20220313T070000
END:DAYLIGHT
BEGIN:STANDARD
TZOFFSETFROM:-0400
TZOFFSETTO:-0500
TZNAME:EST
DTSTART:20221106T060000
END:STANDARD
BEGIN:DAYLIGHT
TZOFFSETFROM:-0500
TZOFFSETTO:-0400
TZNAME:EDT
DTSTART:20230312T070000
END:DAYLIGHT
BEGIN:STANDARD
TZOFFSETFROM:-0400
TZOFFSETTO:-0500
TZNAME:EST
DTSTART:20231105T060000
END:STANDARD
BEGIN:DAYLIGHT
TZOFFSETFROM:-0500
TZOFFSETTO:-0400
TZNAME:EDT
DTSTART:20240310T070000
END:DAYLIGHT
BEGIN:STANDARD
TZOFFSETFROM:-0400
TZOFFSETTO:-0500
TZNAME:EST
DTSTART:20241103T060000
END:STANDARD
END:VTIMEZONE
BEGIN:VEVENT
DTSTART;TZID=America/New_York:20230110T080000
DTEND;TZID=America/New_York:20230320T170000
DTSTAMP:20260421T160607
CREATED:20230110T162326Z
LAST-MODIFIED:20230110T162326Z
UID:10000210-1673337600-1679331600@www.mylonglake.com
SUMMARY:Winter Wonderland Bingo
DESCRIPTION:Winter Wonderland Bingo – on-going all until March 20th. Participants pick up a playing card at any area businesses in Long Lake or Raquette Lake. Get a Bingo and win a prize\, fill out the whole card and you’re eligible for the final prize drawing. \nActivities include attending events\, Winter Carnivals\, eating out\, x-c skiing\, snowmobiling\, sledding\, ice fishing and there’s always the Free spot! All activities must be completed in Long Lake or Raquette Lake. Submit photo proof or mail the card in to Long Lake PRT\, PO Box 496\, Long Lake\, NY 12847 or email events@mylonglake.com
URL:https://www.mylonglake.com/event/winter-wonderland-bingo/
CATEGORIES:Upcoming,Winter Events
ATTACH;FMTTYPE=image/jpeg:https://www.mylonglake.com/wp-content/uploads/2023/01/WW-2023-Bingo.jpg
ORGANIZER;CN="Town of Long Lake Parks & Recreation":MAILTO:longlake@mylonglake.com
END:VEVENT
BEGIN:VEVENT
DTSTART;TZID=America/New_York:20230217T080000
DTEND;TZID=America/New_York:20230226T170000
DTSTAMP:20260421T160607
CREATED:20221228T161320Z
LAST-MODIFIED:20230112T184911Z
UID:10000203-1676620800-1677430800@www.mylonglake.com
SUMMARY:Restaurant Week
DESCRIPTION:Long Lake and Raquette Lake. The five eateries taking part are the Raquette Lake Tap Room\, The Long View Lodge\, the Long Lake Diner/Owl’s Head Pub\, the Adirondack Hotel\, and the Adk Trading Post.  \n  \nEat at each restaurant in Long Lake and Raquette Lake from Friday February 17th to Friday February 26th. Anyone who completes the entire punch card can submit it to the Parks & Recreation Department to be entered into a drawing for a grand prize\, as well as two consolation prizes. No purchase of the punch card is necessary\, and some businesses will feature Restaurant Week menus or specials. For more information call 518-624-3077 or email events@mylonglake.com. \nStay tuned for updates!
URL:https://www.mylonglake.com/event/restaurant-week/
CATEGORIES:Events,Upcoming,Winter Events
ATTACH;FMTTYPE=image/jpeg:https://www.mylonglake.com/wp-content/uploads/2022/12/2023.02-Restaurant-Week-copy-2-scaled.jpg
ORGANIZER;CN="Town of Long Lake Parks & Recreation":MAILTO:longlake@mylonglake.com
END:VEVENT
BEGIN:VEVENT
DTSTART;TZID=America/New_York:20230218T090000
DTEND;TZID=America/New_York:20230218T120000
DTSTAMP:20260421T160607
CREATED:20221228T161110Z
LAST-MODIFIED:20221228T161110Z
UID:10000202-1676710800-1676721600@www.mylonglake.com
SUMMARY:Rough Raquette Snowshoe Race
DESCRIPTION:Join us for the first ever Rough Raquette on Saturday\, Feb. 18\, 2023\, 9 a.m. in Raquette Lake. The Rough Raquette is a 5K snowshoe or one-mile fun run or walk. The completely flat course will take place on the ice\, starting near town and head toward South Bay before looping back to town. It is an out and back race. The race will start out on the ice approximately ¼ mile from the village. Be sure to allow time to get to the starting area after your arrival. The 1 mile fun run and 5K run concurrently and share the same course for the first ½ mile. Loaner snowshoes will not be available.\nIt is Winter Carnival Weekend in Raquette Lake and we encourage you to stick around to take advantage of the other events in town. Youth activities start at 11 a.m. and include plenty of fun games. Ladies Frying Pan Toss at 12 Noon\, Ice Golf at 2 p.m. and bonfire all day. Fireworks on Saturday night at dusk! On Sunday at noon\, it’s the Timed Cross-cut and chainsaw competition. Competitors welcome! For more information on the Winter Carnival call 518-624-3077.\n\n\n9 a.m. Packet pick up begins at 8 a.m. on the ice\, in front of the Raquette Lake Supply.\n\nVillage of Raquette Lake. On the ice in front of the store.\n\nFacilities\nThe race venue is completely outside on the lake. Be prepared with warm clothing and dry clothes for after the race. Keep in mind winds on the lake can be strong at times. Suggested clothing includes warm layers\, gloves\, hat\, long tights or waterproof breathable pants. Snowshoes can be any style – metal\, plastic or wood. We will have a campfire going near the start line. There will be portable toilets nearby on shore.\n\nParking\nFree parking is available in the village\, but space is limited. Please plan to carpool if possible.\n\nWeather\nIn the unlikely event of no snow\, we can still participate on the ice. A decision will be made 15 minutes before the race if snowshoes will be worn based on race day conditions. It is your responsibility to make sure that you have suitable traction devices that are safe for you to walk or run on. Recommended traction includes Kahtoola MicroSpikes or NanoSpikes. You can also make your own pair of screw shoes.\n\nIn the event of unsafe ice or windchill temperatures below -10\, the race will not take place. A decision will be made by noon on the day prior to the race.\n\nEntry Fee/Registration\nIn lieu of a registration fee\, participants are asked to make a suggested donation in the amount of $30 for the 5K and $20 for the 1 mile fun run/walk. All money raised will benefit the Camp Huntington Historic Building Preservation Fund.\n\nOnline race registration will be accepted. Registration day of the event will need to be cash or check only. No electronic devices will be available for registration.\n\nSorry\, no refunds or deferrals to a future race of the donation.\n\nResults\nPosted race results will be available on our site on Monday\, Feb. 20.\n\nContact\nRhonda Pitoniak\, rhonda.pitoniak@cortland.edu or 607-753-5485\n\nAbout the Series\nRaquette Lake got its name from the French word for snowshoe. Knowing that the weather cannot be predicted and winter everchanging\, the name\, Rough Raquette seemed appropriate. All proceeds from the event will go toward the historic preservation efforts at Camp Huntington\, also known as\, Camp Pine Knot.\n\nCamp Pine Knot is the first Great Camp of the Adirondacks and was originally built by William West Durant beginning in the mid-1870s. The original log and bark-sided structures have held up well\, but need constant upkeep and preservation to ensure they are here for future generations.\nRegister here: RedDragonNetwork.org/RoughRaquette
URL:https://www.mylonglake.com/event/rough-raquette-snowshoe-race/
CATEGORIES:Events,Upcoming,Winter Events
ATTACH;FMTTYPE=image/jpeg:https://www.mylonglake.com/wp-content/uploads/2022/12/Rquette-Snowshoe-Race.jpg
END:VEVENT
BEGIN:VEVENT
DTSTART;TZID=America/New_York:20230218T110000
DTEND;TZID=America/New_York:20230219T150000
DTSTAMP:20260421T160607
CREATED:20221228T160534Z
LAST-MODIFIED:20221228T160535Z
UID:10000201-1676718000-1676818800@www.mylonglake.com
SUMMARY:Raquette Lake Winter Carnival
DESCRIPTION:Raquette Lake is the place to be on Presidents Day weekend with a full roster of winter events. New for 2023 is the Rough Raquette Snowshoe Race.  Youth activities start at 11am. Look for a variety of kids games including an obstacle course\, sack races\, sledding and  more.Ladies Frying Pan Toss at Noon and Ice Golf and bonfire all day with Fireworks at 7pm!  On Sunday at noon\, it’s the Timed Cross-cut and chainsaw competition. Competitors are welcome!  For more information call 518-624-3077. All events subject to change without notice. Just be ready for anything in Raquette Lake!  \n  \nSaturday \n9am:  Rough Raquette Snowshoe Race for more info and details:  https://www.facebook.com/events/477020517930367 \n11am: Kids Games \nNoon: Ladies Frying Pan Toss \n2pm: Pete and Chris Magicians in the RL Library \n7pm: Fireworks \n  \nSunday \nNoon: Crosscut and Chainsaw competition
URL:https://www.mylonglake.com/event/raquette-lake-winter-carnival/
LOCATION:Raquette Lake Village Green\, 1 Main Street\, Raquette Lake\, New York\, 13436\, United States
CATEGORIES:Events,Upcoming,Winter Events
ATTACH;FMTTYPE=image/jpeg:https://www.mylonglake.com/wp-content/uploads/2022/12/2023.02.18-RL-Winter-Carnival-2022-Recovered-copy-2-scaled.jpg
ORGANIZER;CN="Town of Long Lake Parks & Recreation":MAILTO:longlake@mylonglake.com
END:VEVENT
BEGIN:VEVENT
DTSTART;TZID=America/New_York:20230218T140000
DTEND;TZID=America/New_York:20230218T150000
DTSTAMP:20260421T160607
CREATED:20221228T154704Z
LAST-MODIFIED:20221228T154704Z
UID:10000197-1676728800-1676732400@www.mylonglake.com
SUMMARY:Pete and Chris Magic Show
DESCRIPTION:Join us at the #RaquetteLake Free Library Saturday February 18th at 2pm\n\nMagic Show and Glitter Tattoos!\n\n#PeteandChrisAmusements\, in conjunction with the the Town of Long Lake Parks and Recreation Department proudly presents The MAGIC of #PrestoPete and #IncredulousChris ! As part of the #RaquetteLakeWinterCarnival\, traveling 2-man kid’s comedy #magicians and real life brothers Presto Pete and Incredulous Chris of Pete and Chris Amusements bring #kids an ULTRA high-energy frantic performance to kids at the show!\n\nKids will guffaw and giggle at their crazy cartoon-like antics\, and be wowed at the magic presented. LOTS of audience participation\, including a special activity at the end where EVERYONE gets to participate!Join us at the Raquette Lake Free Library Saturday February 15th!\nMagic Show and Glitter Tattoos!
URL:https://www.mylonglake.com/event/pete-and-chris-magic-show/
LOCATION:Raquette Lake Library\, 1 Dillon Road\, Raquette Lake\, NY\, 13436\, United States
CATEGORIES:Events,Upcoming,Winter Events
ATTACH;FMTTYPE=image/jpeg:https://www.mylonglake.com/wp-content/uploads/2022/12/2023.02.18-Pete-and-Chris-Amusements.jpg
ORGANIZER;CN="Town of Long Lake Parks & Recreation":MAILTO:longlake@mylonglake.com
END:VEVENT
BEGIN:VEVENT
DTSTART;TZID=America/New_York:20230218T180000
DTEND;TZID=America/New_York:20230218T190000
DTSTAMP:20260421T160607
CREATED:20221228T155129Z
LAST-MODIFIED:20230112T185141Z
UID:10000198-1676743200-1676746800@www.mylonglake.com
SUMMARY:Pete and Chris Magic Show Long Lake Town Hall
DESCRIPTION:Join Presto Pete and Incredible Chris at the Long Lake Town Hall. This traveling 2-man kid’s comedy #magicians and real life brothers Presto Pete and Incredulous Chris of Pete and Chris Amusements bring #kids an ULTRA high-energy frantic performance to kids at the show! \nKids will guffaw and giggle at their crazy cartoon-like antics\, and be wowed at the magic presented. LOTS of audience participation\, including a special activity at the end where EVERYONE gets to participate!Join us at the Long Lake Town Hall on Saturday\, February 18th at 6:0opm!  Come to the show and have a great night! \nMagic Show and Glitter Tattoos!
URL:https://www.mylonglake.com/event/pete-and-chris-long-lake-magic/
LOCATION:Long Lake Town Hall\, 1204 Main Street\, Long Lake\, NY\, 12847\, United States
CATEGORIES:Events,Upcoming,Winter Events
ATTACH;FMTTYPE=image/jpeg:https://www.mylonglake.com/wp-content/uploads/2022/12/2023.02.18-pete-and-chris-long-lake-raquette-lake-scaled.jpg
ORGANIZER;CN="Town of Long Lake Parks & Recreation":MAILTO:longlake@mylonglake.com
END:VEVENT
BEGIN:VEVENT
DTSTART;TZID=America/New_York:20230218T190000
DTEND;TZID=America/New_York:20230218T210000
DTSTAMP:20260421T160608
CREATED:20221228T154216Z
LAST-MODIFIED:20221228T154216Z
UID:10000196-1676746800-1676754000@www.mylonglake.com
SUMMARY:Honey Dewdrops in Concert
DESCRIPTION:Cafe Livre Series\n(The Cafe Livre Series has been graciously funded by The Friends of the Library).\nEvent is free and all are welcomed to attend.\n\nBand Bio:\nVirginia raised and Maryland based\, Laura Wortman and Kagey Parrish of The Honey Dewdrops began touring in 2009 and have called the city of Baltimore home since 2014. With several albums and thirteen years of playing shows on the road\, Laura and Kagey continue to expand their experimental folk sound while maintaining a commitment to deepening their understanding of the world through the lens of music. No Depression says of the new album\, Light Behind Light\, “The Honey Dewdrops have a way of filling their songs with humanity\, using their beautiful playing and harmonies to emphasize what connects us all.”
URL:https://www.mylonglake.com/event/honey-dewdrops-in-concert/
LOCATION:CV Whitney Long Lake Public Library\, 1195 Main Street\, Long Lake\, NY\, 12847\, United States
CATEGORIES:Upcoming,Winter Events
ATTACH;FMTTYPE=image/jpeg:https://www.mylonglake.com/wp-content/uploads/2022/12/2023.02-Honey-Dewdrops-Library.jpeg
END:VEVENT
END:VCALENDAR