BEGIN:VCALENDAR
VERSION:2.0
PRODID:-//Long Lake - ECPv6.15.17.1//NONSGML v1.0//EN
CALSCALE:GREGORIAN
METHOD:PUBLISH
X-WR-CALNAME:Long Lake
X-ORIGINAL-URL:https://www.mylonglake.com
X-WR-CALDESC:Events for Long Lake
REFRESH-INTERVAL;VALUE=DURATION:PT1H
X-Robots-Tag:noindex
X-PUBLISHED-TTL:PT1H
BEGIN:VTIMEZONE
TZID:America/New_York
BEGIN:DAYLIGHT
TZOFFSETFROM:-0500
TZOFFSETTO:-0400
TZNAME:EDT
DTSTART:20210314T070000
END:DAYLIGHT
BEGIN:STANDARD
TZOFFSETFROM:-0400
TZOFFSETTO:-0500
TZNAME:EST
DTSTART:20211107T060000
END:STANDARD
BEGIN:DAYLIGHT
TZOFFSETFROM:-0500
TZOFFSETTO:-0400
TZNAME:EDT
DTSTART:20220313T070000
END:DAYLIGHT
BEGIN:STANDARD
TZOFFSETFROM:-0400
TZOFFSETTO:-0500
TZNAME:EST
DTSTART:20221106T060000
END:STANDARD
BEGIN:DAYLIGHT
TZOFFSETFROM:-0500
TZOFFSETTO:-0400
TZNAME:EDT
DTSTART:20230312T070000
END:DAYLIGHT
BEGIN:STANDARD
TZOFFSETFROM:-0400
TZOFFSETTO:-0500
TZNAME:EST
DTSTART:20231105T060000
END:STANDARD
BEGIN:DAYLIGHT
TZOFFSETFROM:-0500
TZOFFSETTO:-0400
TZNAME:EDT
DTSTART:20240310T070000
END:DAYLIGHT
BEGIN:STANDARD
TZOFFSETFROM:-0400
TZOFFSETTO:-0500
TZNAME:EST
DTSTART:20241103T060000
END:STANDARD
END:VTIMEZONE
BEGIN:VEVENT
DTSTART;TZID=America/New_York:20221231T050000
DTEND;TZID=America/New_York:20230101T023000
DTSTAMP:20260421T142614
CREATED:20221209T130725Z
LAST-MODIFIED:20221209T130746Z
UID:10000181-1672462800-1672540200@www.mylonglake.com
SUMMARY:New Year's Eve Bus
DESCRIPTION:The Long Lake Little bus Transport starts at 5pm. Call for a ride to dinner. Please note – the bus tends to get super duper busy leading up to midnight\, so we highly suggest if you plan on traveling to a particular location you arrive their 45 minutes to an hour ahead of the big countdown. 518-524-3106 to schedule a ride. \n  \nCheck out area venues for events\, special dining options and music. Enjoy New Years Eve in Long Lake!
URL:https://www.mylonglake.com/event/new-years-eve-bus/
CATEGORIES:Upcoming,Winter Events
ATTACH;FMTTYPE=image/png:https://www.mylonglake.com/wp-content/uploads/2022/12/IMG_7796-Little-Bus.png
ORGANIZER;CN="Town of Long Lake Parks & Recreation":MAILTO:longlake@mylonglake.com
END:VEVENT
BEGIN:VEVENT
DTSTART;TZID=America/New_York:20221231T160000
DTEND;TZID=America/New_York:20221231T160000
DTSTAMP:20260421T142614
CREATED:20221219T220107Z
LAST-MODIFIED:20221219T220114Z
UID:10000192-1672502400-1672502400@www.mylonglake.com
SUMMARY:Adirondack Hotel New Years Eve
DESCRIPTION:Adirondack Hotel’s New Years Eve offers a delicious selection of dining. Seating available from 4pm to 9pm. Please call for reservations @ 518-624-4700. \n  \nThe Long Lake Little Bus rolls within town limits providing door to door transportation. Call 518-524-3106
URL:https://www.mylonglake.com/event/adirondack-hotel-new-years-eve/
LOCATION:Adirondack Hotel\, 1245 Main Street\, Long Lake\, 12847\, United States
CATEGORIES:Upcoming,Winter Events
ATTACH;FMTTYPE=image/jpeg:https://www.mylonglake.com/wp-content/uploads/2022/12/ADK-Hotel.jpg
END:VEVENT
BEGIN:VEVENT
DTSTART;TZID=America/New_York:20221231T163000
DTEND;TZID=America/New_York:20221231T203000
DTSTAMP:20260421T142614
CREATED:20221227T172911Z
LAST-MODIFIED:20221227T172911Z
UID:10000194-1672504200-1672518600@www.mylonglake.com
SUMMARY:New Years Eve Long Lake Diner
DESCRIPTION:New Years Eve Dinner from 4:30pm – 8:30pm.  Please call 518-624-3941 for a reservation. \n  \nEnjoy a fine selection of Prime Rib\, Chicken Dijon\, Trout\, Sea Scallops and more! \n  \nPub menu will be available. Dine in or Take out!
URL:https://www.mylonglake.com/event/new-years-eve-long-lake-diner/
LOCATION:Long Lake Diner
CATEGORIES:Upcoming,Winter Events
ATTACH;FMTTYPE=image/jpeg:https://www.mylonglake.com/wp-content/uploads/2022/12/Diner-Menu.jpg
END:VEVENT
BEGIN:VEVENT
DTSTART;TZID=America/New_York:20221231T170000
DTEND;TZID=America/New_York:20221231T170000
DTSTAMP:20260421T142614
CREATED:20221219T215744Z
LAST-MODIFIED:20221219T215835Z
UID:10000191-1672506000-1672506000@www.mylonglake.com
SUMMARY:Long View Lodge New Years Eve Party
DESCRIPTION:NYE is approaching and the Long View Lodge presents a fun new theme for this year! Menu Link\nhttps://thelongviewlodge.com/s/2023NYEWEB.pdf\n\n\nDoor to door transportation available from 5pm until last call – the Long Lake Little Bus. 518-524-3106
URL:https://www.mylonglake.com/event/long-view-lodge-new-years-eve-party/
LOCATION:Long View Lodge\, 681 Deerland Road\, Long Lake\, NY\, 12847\, United States
CATEGORIES:Upcoming,Winter Events
ATTACH;FMTTYPE=image/jpeg:https://www.mylonglake.com/wp-content/uploads/2022/12/long-view-lodge-NYE-2023.jpg
END:VEVENT
END:VCALENDAR