BEGIN:VCALENDAR
VERSION:2.0
PRODID:-//Long Lake - ECPv6.15.17.1//NONSGML v1.0//EN
CALSCALE:GREGORIAN
METHOD:PUBLISH
X-ORIGINAL-URL:https://www.mylonglake.com
X-WR-CALDESC:Events for Long Lake
REFRESH-INTERVAL;VALUE=DURATION:PT1H
X-Robots-Tag:noindex
X-PUBLISHED-TTL:PT1H
BEGIN:VTIMEZONE
TZID:America/New_York
BEGIN:DAYLIGHT
TZOFFSETFROM:-0500
TZOFFSETTO:-0400
TZNAME:EDT
DTSTART:20210314T070000
END:DAYLIGHT
BEGIN:STANDARD
TZOFFSETFROM:-0400
TZOFFSETTO:-0500
TZNAME:EST
DTSTART:20211107T060000
END:STANDARD
BEGIN:DAYLIGHT
TZOFFSETFROM:-0500
TZOFFSETTO:-0400
TZNAME:EDT
DTSTART:20220313T070000
END:DAYLIGHT
BEGIN:STANDARD
TZOFFSETFROM:-0400
TZOFFSETTO:-0500
TZNAME:EST
DTSTART:20221106T060000
END:STANDARD
BEGIN:DAYLIGHT
TZOFFSETFROM:-0500
TZOFFSETTO:-0400
TZNAME:EDT
DTSTART:20230312T070000
END:DAYLIGHT
BEGIN:STANDARD
TZOFFSETFROM:-0400
TZOFFSETTO:-0500
TZNAME:EST
DTSTART:20231105T060000
END:STANDARD
END:VTIMEZONE
BEGIN:VEVENT
DTSTART;TZID=America/New_York:20221228T190000
DTEND;TZID=America/New_York:20221228T200000
DTSTAMP:20260421T194045
CREATED:20221219T191459Z
LAST-MODIFIED:20221219T191525Z
UID:10000190-1672254000-1672257600@www.mylonglake.com
SUMMARY:Town Board Meeting
DESCRIPTION:Monthly on the last Wednesday\n\n\n\n\n\n\nLocation: \n\nLong Lake Town Hall\n\n\n\n\n\n\n\n7pm  at the Long Lake Town Hall \nTo view the agenda\, go to LL Local Government on the drop down home page under TOWN and click on Agendas/Announcements/Minutes\, www.mylonglake.com. Click on the link for the applicable tentative agenda which can be viewed by the Monday prior to the Wednesday board meeting.
URL:https://www.mylonglake.com/event/22809/
LOCATION:Long Lake Town Hall\, 1204 Main Street\, Long Lake\, NY\, 12847\, United States
CATEGORIES:News,Upcoming
ATTACH;FMTTYPE=image/jpeg:https://www.mylonglake.com/wp-content/uploads/2022/12/IMG_1459-Town-Hall-Opet.jpg
ORGANIZER;CN="Long Lake Town Board":MAILTO:supervisor@mylonglake.com
END:VEVENT
BEGIN:VEVENT
DTSTART;TZID=America/New_York:20221228T190000
DTEND;TZID=America/New_York:20221228T210000
DTSTAMP:20260421T194045
CREATED:20221209T130319Z
LAST-MODIFIED:20221209T130319Z
UID:10000180-1672254000-1672261200@www.mylonglake.com
SUMMARY:Trivia Night
DESCRIPTION:7pm. Long View Lodge. Trivia Night continues. Come test your knowledge against the Trivia Tsar for your chance to win prizes\, bragging rights\, and points towards the Trivia Master Cup.
URL:https://www.mylonglake.com/event/trivia-night-3/
LOCATION:Long View Lodge\, 681 Deerland Road\, Long Lake\, NY\, 12847\, United States
CATEGORIES:Upcoming,Winter Events
ATTACH;FMTTYPE=image/jpeg:https://www.mylonglake.com/wp-content/uploads/2022/11/IMG_2993trivia-pencils.jpg
ORGANIZER;CN="Town of Long Lake Parks & Recreation":MAILTO:longlake@mylonglake.com
END:VEVENT
END:VCALENDAR