BEGIN:VCALENDAR
VERSION:2.0
PRODID:-//Long Lake - ECPv6.15.17.1//NONSGML v1.0//EN
CALSCALE:GREGORIAN
METHOD:PUBLISH
X-ORIGINAL-URL:https://www.mylonglake.com
X-WR-CALDESC:Events for Long Lake
REFRESH-INTERVAL;VALUE=DURATION:PT1H
X-Robots-Tag:noindex
X-PUBLISHED-TTL:PT1H
BEGIN:VTIMEZONE
TZID:America/New_York
BEGIN:DAYLIGHT
TZOFFSETFROM:-0500
TZOFFSETTO:-0400
TZNAME:EDT
DTSTART:20210314T070000
END:DAYLIGHT
BEGIN:STANDARD
TZOFFSETFROM:-0400
TZOFFSETTO:-0500
TZNAME:EST
DTSTART:20211107T060000
END:STANDARD
BEGIN:DAYLIGHT
TZOFFSETFROM:-0500
TZOFFSETTO:-0400
TZNAME:EDT
DTSTART:20220313T070000
END:DAYLIGHT
BEGIN:STANDARD
TZOFFSETFROM:-0400
TZOFFSETTO:-0500
TZNAME:EST
DTSTART:20221106T060000
END:STANDARD
BEGIN:DAYLIGHT
TZOFFSETFROM:-0500
TZOFFSETTO:-0400
TZNAME:EDT
DTSTART:20230312T070000
END:DAYLIGHT
BEGIN:STANDARD
TZOFFSETFROM:-0400
TZOFFSETTO:-0500
TZNAME:EST
DTSTART:20231105T060000
END:STANDARD
END:VTIMEZONE
BEGIN:VEVENT
DTSTART;TZID=America/New_York:20221210T120000
DTEND;TZID=America/New_York:20221210T170000
DTSTAMP:20260423T020622
CREATED:20221201T210119Z
LAST-MODIFIED:20221201T210119Z
UID:10000004-1670673600-1670691600@www.mylonglake.com
SUMMARY:Friends of the LL Library Ladies Holiday Luncheon
DESCRIPTION:In honor Her Majesty the Queen:\nIrish Shrimp & Cucumber Leprechaun Bites\nNortheast Scotland Haddock Cullen Skink\nWelsh Salad (with celery\, radish\, carrot\, tomato and olives with English mustard vinaigrette \nHoney mustard pork tenderloin\nDutchess potatoes \nFresh asparagus\nEnglish Strawberry Trifle\nCoffee\, tea or water\nCash bar available\n \nFor more information contact lgl-director@sals.edu \n$25 per person.
URL:https://www.mylonglake.com/event/friends-of-the-ll-library-ladies-holiday-luncheon/
LOCATION:Adirondack Hotel\, 1245 Main Street\, Long Lake\, 12847\, United States
CATEGORIES:Winter Events
ATTACH;FMTTYPE=image/jpeg:https://www.mylonglake.com/wp-content/uploads/2022/12/Britain-Queen-Elizabeth-II-during-her-coronation.jpg
END:VEVENT
BEGIN:VEVENT
DTSTART;TZID=America/New_York:20221210T170000
DTEND;TZID=America/New_York:20221210T200000
DTSTAMP:20260423T020622
CREATED:20221208T182921Z
LAST-MODIFIED:20221208T182921Z
UID:10000179-1670691600-1670702400@www.mylonglake.com
SUMMARY:Santa Visits Long Lake
DESCRIPTION:The Town of Long Lake Parks & Recreation Department is partnering with the Long Lake Fire Department to bring you Santa Visits Long Lake on Saturday\, December 10th. \nStarting at 5pm on December 10th the Long Lake Fire Department ushers Santa Claus in a first class seat around town to deliver presents to all the children in town! This event is for residents and property owners of Long Lake & Raquette Lake kids and grandkids\, 6th grade and under. To sign up please call 518-624-3077. Sign up deadline is December 5th at 12pm. \nRaquette Lake children will enjoy a visit from Santa on Wednesday\, December 14th! Special thanks to the Long Lake Lions Club to help fund Santa Claus’s transportation from the North Pole to Long Lake & Raquette Lake! It is greatly appreciated!
URL:https://www.mylonglake.com/event/santa-visits-long-lake/
CATEGORIES:Upcoming
ATTACH;FMTTYPE=image/jpeg:https://www.mylonglake.com/wp-content/uploads/2022/12/IMG_4632.jpg
ORGANIZER;CN="Town of Long Lake Parks & Recreation":MAILTO:longlake@mylonglake.com
END:VEVENT
END:VCALENDAR