BEGIN:VCALENDAR
VERSION:2.0
PRODID:-//Long Lake - ECPv6.15.17.1//NONSGML v1.0//EN
CALSCALE:GREGORIAN
METHOD:PUBLISH
X-ORIGINAL-URL:https://www.mylonglake.com
X-WR-CALDESC:Events for Long Lake
REFRESH-INTERVAL;VALUE=DURATION:PT1H
X-Robots-Tag:noindex
X-PUBLISHED-TTL:PT1H
BEGIN:VTIMEZONE
TZID:America/New_York
BEGIN:DAYLIGHT
TZOFFSETFROM:-0500
TZOFFSETTO:-0400
TZNAME:EDT
DTSTART:20250309T070000
END:DAYLIGHT
BEGIN:STANDARD
TZOFFSETFROM:-0400
TZOFFSETTO:-0500
TZNAME:EST
DTSTART:20251102T060000
END:STANDARD
BEGIN:DAYLIGHT
TZOFFSETFROM:-0500
TZOFFSETTO:-0400
TZNAME:EDT
DTSTART:20260308T070000
END:DAYLIGHT
BEGIN:STANDARD
TZOFFSETFROM:-0400
TZOFFSETTO:-0500
TZNAME:EST
DTSTART:20261101T060000
END:STANDARD
BEGIN:DAYLIGHT
TZOFFSETFROM:-0500
TZOFFSETTO:-0400
TZNAME:EDT
DTSTART:20270314T070000
END:DAYLIGHT
BEGIN:STANDARD
TZOFFSETFROM:-0400
TZOFFSETTO:-0500
TZNAME:EST
DTSTART:20271107T060000
END:STANDARD
END:VTIMEZONE
BEGIN:VEVENT
DTSTART;TZID=America/New_York:20260214T093000
DTEND;TZID=America/New_York:20260215T140000
DTSTAMP:20260424T064224
CREATED:20260204T195636Z
LAST-MODIFIED:20260212T124048Z
UID:10001671-1771061400-1771164000@www.mylonglake.com
SUMMARY:Raquette Lake Winter Carnival
DESCRIPTION:Tradition holds steady in Raquette Lake. The birthplace of the Great Camp. The historical vacation homeland of the Titans of Industry. Join us for a fun-filled weekend of shenanigans\, antics\, kids games and Fireworks. All event times subject to change without notice\, but its never too early to reserve your quarters and finalize your winter gear for what is always a memorable\, small town\, down home Adirondack Tradition. \n9:30am – Rough Raquette 5K on the lake contact Rhonda Pitoniak to register – rhonda.pitoniak@cortland.edu or 607-753-5485. \n10:00am – Youth Games – obstacle course\, sack races and sledding. Ladies Frying Pan Toss. \n2:00pm – Chris Wheel and his Parlor Magic show at the Raquette Lake Library. Perfect for kids and families. \n2:00pm – Ice Golf \n7:00pm – Fireworks \nSunday\, February 15th \n8:00am – 11:00am Pancake Breakfast \n12:00pm – Time crosscut and Chainsaw Competition – compteritors welcome. \nall events are subject to channge without notice. For more information 518-624-3077
URL:https://www.mylonglake.com/event/raquette-lake-winter-carnival-5/
LOCATION:NY
CATEGORIES:Raquette Lake,Upcoming,Winter Events
ATTACH;FMTTYPE=image/jpeg:https://www.mylonglake.com/wp-content/uploads/2026/02/2026.02.14-RL-Winter-Carnival-rev2-FINAL-copy-scaled.jpg
END:VEVENT
BEGIN:VEVENT
DTSTART;TZID=America/New_York:20260214T140000
DTEND;TZID=America/New_York:20260214T160000
DTSTAMP:20260424T064224
CREATED:20260204T203743Z
LAST-MODIFIED:20260204T203743Z
UID:10001672-1771077600-1771084800@www.mylonglake.com
SUMMARY:Chris Wheel Parlor Magic
DESCRIPTION:Chris Wheel brings his interactive Parlor Magic show to the Raquette Lake Library. Perfect for kids and families.
URL:https://www.mylonglake.com/event/chris-wheel-parlor-magic/
LOCATION:Raquette Lake Library\, 1 Dillon Road\, Raquette Lake\, NY\, 13436\, United States
CATEGORIES:Raquette Lake,Upcoming,Winter Events
ATTACH;FMTTYPE=image/jpeg:https://www.mylonglake.com/wp-content/uploads/2026/02/2026-Chris-Wheel-copy-scaled.jpg
ORGANIZER;CN="Town of Long Lake Parks & Recreation":MAILTO:longlake@mylonglake.com
END:VEVENT
BEGIN:VEVENT
DTSTART;TZID=America/New_York:20260215T080000
DTEND;TZID=America/New_York:20260215T110000
DTSTAMP:20260424T064224
CREATED:20260205T173918Z
LAST-MODIFIED:20260205T173918Z
UID:10001673-1771142400-1771153200@www.mylonglake.com
SUMMARY:Pancake Breakfast
DESCRIPTION:Raquette Lake Ladies Auxiliary host the Annual Pancake Breakfast the Raquette Lake Fire Department with Pancakes\, Sausage\, Fruit and Beverage
URL:https://www.mylonglake.com/event/pancake-breakfast/
LOCATION:Raquette Lake Fire Department\, 178 NYS Route 28\, Raquette Lake\, NY\, 13436\, United States
CATEGORIES:Raquette Lake,Upcoming,Winter Events
ATTACH;FMTTYPE=image/jpeg:https://www.mylonglake.com/wp-content/uploads/2026/02/RL_PancakeBreakfast-scaled.jpg
END:VEVENT
END:VCALENDAR