BEGIN:VCALENDAR
VERSION:2.0
PRODID:-//Long Lake - ECPv6.15.17.1//NONSGML v1.0//EN
CALSCALE:GREGORIAN
METHOD:PUBLISH
X-ORIGINAL-URL:https://www.mylonglake.com
X-WR-CALDESC:Events for Long Lake
REFRESH-INTERVAL;VALUE=DURATION:PT1H
X-Robots-Tag:noindex
X-PUBLISHED-TTL:PT1H
BEGIN:VTIMEZONE
TZID:America/New_York
BEGIN:DAYLIGHT
TZOFFSETFROM:-0500
TZOFFSETTO:-0400
TZNAME:EDT
DTSTART:20240310T070000
END:DAYLIGHT
BEGIN:STANDARD
TZOFFSETFROM:-0400
TZOFFSETTO:-0500
TZNAME:EST
DTSTART:20241103T060000
END:STANDARD
BEGIN:DAYLIGHT
TZOFFSETFROM:-0500
TZOFFSETTO:-0400
TZNAME:EDT
DTSTART:20250309T070000
END:DAYLIGHT
BEGIN:STANDARD
TZOFFSETFROM:-0400
TZOFFSETTO:-0500
TZNAME:EST
DTSTART:20251102T060000
END:STANDARD
BEGIN:DAYLIGHT
TZOFFSETFROM:-0500
TZOFFSETTO:-0400
TZNAME:EDT
DTSTART:20260308T070000
END:DAYLIGHT
BEGIN:STANDARD
TZOFFSETFROM:-0400
TZOFFSETTO:-0500
TZNAME:EST
DTSTART:20261101T060000
END:STANDARD
END:VTIMEZONE
BEGIN:VEVENT
DTSTART;TZID=America/New_York:20250821T183000
DTEND;TZID=America/New_York:20250821T193000
DTSTAMP:20260422T181120
CREATED:20250708T190200Z
LAST-MODIFIED:20250708T190200Z
UID:10000752-1755801000-1755804600@www.mylonglake.com
SUMMARY:Colalillo\, Foley & Foley at St. Williams on Long Point
DESCRIPTION:On August 21st\, we welcome the classical music trio of Colalillo\, Foley\, & Foley to Long Point! The acoustics of St. William’s are sure to take their exceptional talents on the piano\, violin\, and cello to new heights. You may hear pieces from Brahms and more. With experience ranging from gracing the hallowed Carnegie Hall to our very own Long Point\, we can only imagine the warm\, expressive\, and resonant sounds of classical favorites\, softly echoing throughout the lake. As always\, in case of rain\, the show will go on at the Raquette Lake Chapel\, just up the hillside from the W.W. Durant. \n  \n   \n  \nWe are pleased to once again have public transportation from the town dock to St. William’s for our programs this year! Our thanks to Raquette Lake Camps for supplying the barge\, and to Michael Bartow\, who will be our captain. Be at the dock by 5:30 pm\, as it is first-come\, first-served. The boat will leave at 6 pm. Please check our website or Facebook for further information. If you have a boat on Raquette Lake\, you may also enjoy the concert from the comfort of your boat. You can also dock at the church or sit on the lawn with your blanket or chairs. The concert will start at 6:30 pm and run for about an hour. And don’t forget\, each Thursday we’ll have pies to raffle\, made by our local baker! Don’t miss the delicious! As always\,  in case of rain\, the show will go on at the Raquette Lake School\, located at 115 NY-28\, or the Raquette Lake Chapel (August 21st only)\, just up the hillside from the W.W. Durant. \n\nThese programs are made possible with funds from the statewide Community Regrants Program\, a regrant program of the New York State Council on the Arts with the support of the Office of the Governor and the New York State Legislature and administered by the Adirondack Lakes Center for the Arts. \n\nThe historic 1890 St. William’s church building is open from Memorial Day to early September. Remember\, we are a boat access location only\, and you can put in at the village dock right between Raquette Lake Supply and the W.W. Durant. All are welcome to come in\, look around\, ring the bell\, and take a moment to breathe in the peace and quiet. Join us for a late summer picnic\, some potential early leaf peeping\, or just some peace and solitude within the church walls. \n\nCheck out our website at https://www.stwilliamslongpoint.org/ or follow us on Facebook at https://www.facebook.com/stwmlongpoint/. You can also call 315.354.4265 for more information about our concerts and events. We look forward to seeing you this summer!
URL:https://www.mylonglake.com/event/colalillo-foley-foley-at-st-williams-on-long-point/
LOCATION:St. Williams on Long Point\, Raquette Lake\, NY\, 13436
CATEGORIES:Raquette Lake,Summer Events,Upcoming
ATTACH;FMTTYPE=image/png:https://www.mylonglake.com/wp-content/uploads/2025/07/Ryan-Foley.png
GEO:43° 49′ 33″ N;74° 37′ 55″ W
END:VEVENT
END:VCALENDAR