BEGIN:VCALENDAR
VERSION:2.0
PRODID:-//Long Lake - ECPv6.15.17.1//NONSGML v1.0//EN
CALSCALE:GREGORIAN
METHOD:PUBLISH
X-WR-CALNAME:Long Lake
X-ORIGINAL-URL:https://www.mylonglake.com
X-WR-CALDESC:Events for Long Lake
REFRESH-INTERVAL;VALUE=DURATION:PT1H
X-Robots-Tag:noindex
X-PUBLISHED-TTL:PT1H
BEGIN:VTIMEZONE
TZID:America/New_York
BEGIN:DAYLIGHT
TZOFFSETFROM:-0500
TZOFFSETTO:-0400
TZNAME:EDT
DTSTART:20240310T070000
END:DAYLIGHT
BEGIN:STANDARD
TZOFFSETFROM:-0400
TZOFFSETTO:-0500
TZNAME:EST
DTSTART:20241103T060000
END:STANDARD
BEGIN:DAYLIGHT
TZOFFSETFROM:-0500
TZOFFSETTO:-0400
TZNAME:EDT
DTSTART:20250309T070000
END:DAYLIGHT
BEGIN:STANDARD
TZOFFSETFROM:-0400
TZOFFSETTO:-0500
TZNAME:EST
DTSTART:20251102T060000
END:STANDARD
BEGIN:DAYLIGHT
TZOFFSETFROM:-0500
TZOFFSETTO:-0400
TZNAME:EDT
DTSTART:20260308T070000
END:DAYLIGHT
BEGIN:STANDARD
TZOFFSETFROM:-0400
TZOFFSETTO:-0500
TZNAME:EST
DTSTART:20261101T060000
END:STANDARD
END:VTIMEZONE
BEGIN:VEVENT
DTSTART;TZID=America/New_York:20250809T100000
DTEND;TZID=America/New_York:20250809T230000
DTSTAMP:20260423T125749
CREATED:20250710T195643Z
LAST-MODIFIED:20250710T195643Z
UID:10000768-1754733600-1754780400@www.mylonglake.com
SUMMARY:Raquette Lake Busiest Day
DESCRIPTION:Raquette Lake’s Busiest Day \n10 am. Raquette Lake’s Busiest Day will be held at locations throughout Raquette Lake.  Juried Craft fair at 10am at the Raquette Lake Union Free School.  Jewelry\, pottery\, photography\, pen & ink drawings\, wrought iron Adirondack products\, polar fleece\, stained glass\, handwoven clothing\, and accessories\, rustic Adirondack furniture\, jams & jellies\, fudge\, & more.  Rain or Shine.   Annual Book Sale starting at 10am at the library.   At 5pm it’s the biggest event of the season.  The Annual Raquette Lake Fire Department and Ambulance Squad Auction at 6pm under the big tent. For more information\, call 518-624-3077.
URL:https://www.mylonglake.com/event/raquette-lake-busiest-day-2/
LOCATION:Raquette Lake Village Green\, 1 Main Street\, Raquette Lake\, New York\, 13436\, United States
CATEGORIES:Raquette Lake,Summer Events
ATTACH;FMTTYPE=image/jpeg:https://www.mylonglake.com/wp-content/uploads/2025/07/RL-Busiest-Day-2025-copy-2.jpg
END:VEVENT
END:VCALENDAR