BEGIN:VCALENDAR
VERSION:2.0
PRODID:-//Long Lake - ECPv6.15.17.1//NONSGML v1.0//EN
CALSCALE:GREGORIAN
METHOD:PUBLISH
X-WR-CALNAME:Long Lake
X-ORIGINAL-URL:https://www.mylonglake.com
X-WR-CALDESC:Events for Long Lake
REFRESH-INTERVAL;VALUE=DURATION:PT1H
X-Robots-Tag:noindex
X-PUBLISHED-TTL:PT1H
BEGIN:VTIMEZONE
TZID:America/New_York
BEGIN:DAYLIGHT
TZOFFSETFROM:-0500
TZOFFSETTO:-0400
TZNAME:EDT
DTSTART:20240310T070000
END:DAYLIGHT
BEGIN:STANDARD
TZOFFSETFROM:-0400
TZOFFSETTO:-0500
TZNAME:EST
DTSTART:20241103T060000
END:STANDARD
BEGIN:DAYLIGHT
TZOFFSETFROM:-0500
TZOFFSETTO:-0400
TZNAME:EDT
DTSTART:20250309T070000
END:DAYLIGHT
BEGIN:STANDARD
TZOFFSETFROM:-0400
TZOFFSETTO:-0500
TZNAME:EST
DTSTART:20251102T060000
END:STANDARD
BEGIN:DAYLIGHT
TZOFFSETFROM:-0500
TZOFFSETTO:-0400
TZNAME:EDT
DTSTART:20260308T070000
END:DAYLIGHT
BEGIN:STANDARD
TZOFFSETFROM:-0400
TZOFFSETTO:-0500
TZNAME:EST
DTSTART:20261101T060000
END:STANDARD
END:VTIMEZONE
BEGIN:VEVENT
DTSTART;TZID=America/New_York:20250807T183000
DTEND;TZID=America/New_York:20250807T193000
DTSTAMP:20260423T155227
CREATED:20250722T140015Z
LAST-MODIFIED:20250722T140015Z
UID:10000776-1754591400-1754595000@www.mylonglake.com
SUMMARY:Peggy Lynn and Dan Duggan
DESCRIPTION:On August 7th\, St. William’s welcomes mountain locals Peggy Lynn and Dan Duggan to Long Point. Peggy’s original songwriting is deeply rooted in the Adirondack region\, often focused on history\, women\, and the natural beauty of our beloved park. She has released several albums\, including Adirondack Woman and Cloudsplitter. Dan is a nationally touring performer who is quickly being recognized as one of the most skilled hammered dulcimer players in the country! This ancient percussion-string instrument produces a uniquely shimmery\, ethereal\, and resonant sound. Dan has also released several albums\, including three traditional Christmas compilations. \n  \nWe are pleased to once again offer public transportation from the Raquette Lake Town Dock to St. William’s on Long Point for our programs this year! \n🛶 Transportation Details:Thanks to Raquette Lake Camps for supplying the barge and to Captain Michael Bartow for piloting. Please arrive at the Town Dock by 5:30 PM\, as boarding is first-come\, first-served. The boat will depart promptly at 6:00 PM. \n⛪ Program Location & Times: \n\nConcerts take place at St. William’s on Long Point\, an historic 1890 church building accessible by boat.\nConcert Start Time:6:30 PM\nDuration:Approximately one hour\nYou are welcome to enjoy the concert from your own boat\, dock at the church\, or sit on the lawn with your blanket or chairs.\n\n🥧 Special Note:Each Thursday\, we will raffle off homemade pies by our local baker. Don’t miss this delicious opportunity! \n🌧️ Rain Location:In case of rain\, programs will be held at: \n\nRaquette Lake School(115 NY-28) on July 17\nRaquette Lake Chapel(just up the hillside from the W.W. Durant) on July 10\, 24\, and 31\n\n🎭 Grant Information:These programs are made possible with funds from the statewide Community Regrants Program\, a regrant program of the New York State Council on the Arts with the support of the Office of the Governor and the New York State Legislature\, administered by the Adirondack Lakes Center for the Arts. \n🔔 About St. William’s:The historic St. William’s Church is open from Memorial Day to early September. All are welcome to visit\, ring the bell\, and enjoy the peace and quiet of this special place. \n📱 For More Information: \n\nWebsite:org\nFacebook:com/stwmlongpoint\nPhone:(315) 354.4265
URL:https://www.mylonglake.com/event/peggy-lynn-and-dan-duggan/
LOCATION:NY
CATEGORIES:Events,Raquette Lake,Summer Events,Upcoming
ATTACH;FMTTYPE=image/jpeg:https://www.mylonglake.com/wp-content/uploads/2023/06/4-Dan-and-Peggy-July-26-Picture1.jpg
END:VEVENT
END:VCALENDAR