BEGIN:VCALENDAR
VERSION:2.0
PRODID:-//Long Lake - ECPv6.15.17.1//NONSGML v1.0//EN
CALSCALE:GREGORIAN
METHOD:PUBLISH
X-ORIGINAL-URL:https://www.mylonglake.com
X-WR-CALDESC:Events for Long Lake
REFRESH-INTERVAL;VALUE=DURATION:PT1H
X-Robots-Tag:noindex
X-PUBLISHED-TTL:PT1H
BEGIN:VTIMEZONE
TZID:America/New_York
BEGIN:DAYLIGHT
TZOFFSETFROM:-0500
TZOFFSETTO:-0400
TZNAME:EDT
DTSTART:20230312T070000
END:DAYLIGHT
BEGIN:STANDARD
TZOFFSETFROM:-0400
TZOFFSETTO:-0500
TZNAME:EST
DTSTART:20231105T060000
END:STANDARD
BEGIN:DAYLIGHT
TZOFFSETFROM:-0500
TZOFFSETTO:-0400
TZNAME:EDT
DTSTART:20240310T070000
END:DAYLIGHT
BEGIN:STANDARD
TZOFFSETFROM:-0400
TZOFFSETTO:-0500
TZNAME:EST
DTSTART:20241103T060000
END:STANDARD
BEGIN:DAYLIGHT
TZOFFSETFROM:-0500
TZOFFSETTO:-0400
TZNAME:EDT
DTSTART:20250309T070000
END:DAYLIGHT
BEGIN:STANDARD
TZOFFSETFROM:-0400
TZOFFSETTO:-0500
TZNAME:EST
DTSTART:20251102T060000
END:STANDARD
END:VTIMEZONE
BEGIN:VEVENT
DTSTART;TZID=America/New_York:20240408T140000
DTEND;TZID=America/New_York:20240408T160000
DTSTAMP:20260424T191931
CREATED:20240403T192928Z
LAST-MODIFIED:20240403T192928Z
UID:10000460-1712584800-1712592000@www.mylonglake.com
SUMMARY:Raquette Lake Solar Eclipse Viewing Event
DESCRIPTION:Join us at the Raquette Lake School\n*Light Snacks*\n*Solar Eclipse Glasses*\n*2PM – 4PM*\n*First Come First Serve*
URL:https://www.mylonglake.com/event/raquette-lake-solar-eclipse-viewing-event/
LOCATION:Raquette Lake School\, 115 NYS Route 28\, Raquette Lake\, NY\, 13436\, United States
CATEGORIES:Eclipse 2024,Raquette Lake,Spring Events,Upcoming
ATTACH;FMTTYPE=image/jpeg:https://www.mylonglake.com/wp-content/uploads/2024/03/Eclipse-Phase-for-Brochure-copy.jpg
ORGANIZER;CN="Town of Long Lake Parks & Recreation":MAILTO:longlake@mylonglake.com
END:VEVENT
END:VCALENDAR