BEGIN:VCALENDAR
VERSION:2.0
PRODID:-//Long Lake - ECPv6.15.17.1//NONSGML v1.0//EN
CALSCALE:GREGORIAN
METHOD:PUBLISH
X-WR-CALNAME:Long Lake
X-ORIGINAL-URL:https://www.mylonglake.com
X-WR-CALDESC:Events for Long Lake
REFRESH-INTERVAL;VALUE=DURATION:PT1H
X-Robots-Tag:noindex
X-PUBLISHED-TTL:PT1H
BEGIN:VTIMEZONE
TZID:America/New_York
BEGIN:DAYLIGHT
TZOFFSETFROM:-0500
TZOFFSETTO:-0400
TZNAME:EDT
DTSTART:20220313T070000
END:DAYLIGHT
BEGIN:STANDARD
TZOFFSETFROM:-0400
TZOFFSETTO:-0500
TZNAME:EST
DTSTART:20221106T060000
END:STANDARD
BEGIN:DAYLIGHT
TZOFFSETFROM:-0500
TZOFFSETTO:-0400
TZNAME:EDT
DTSTART:20230312T070000
END:DAYLIGHT
BEGIN:STANDARD
TZOFFSETFROM:-0400
TZOFFSETTO:-0500
TZNAME:EST
DTSTART:20231105T060000
END:STANDARD
BEGIN:DAYLIGHT
TZOFFSETFROM:-0500
TZOFFSETTO:-0400
TZNAME:EDT
DTSTART:20240310T070000
END:DAYLIGHT
BEGIN:STANDARD
TZOFFSETFROM:-0400
TZOFFSETTO:-0500
TZNAME:EST
DTSTART:20241103T060000
END:STANDARD
END:VTIMEZONE
BEGIN:VEVENT
DTSTART;TZID=America/New_York:20230110T080000
DTEND;TZID=America/New_York:20230320T170000
DTSTAMP:20260422T143007
CREATED:20230110T162326Z
LAST-MODIFIED:20230110T162326Z
UID:10000210-1673337600-1679331600@www.mylonglake.com
SUMMARY:Winter Wonderland Bingo
DESCRIPTION:Winter Wonderland Bingo – on-going all until March 20th. Participants pick up a playing card at any area businesses in Long Lake or Raquette Lake. Get a Bingo and win a prize\, fill out the whole card and you’re eligible for the final prize drawing. \nActivities include attending events\, Winter Carnivals\, eating out\, x-c skiing\, snowmobiling\, sledding\, ice fishing and there’s always the Free spot! All activities must be completed in Long Lake or Raquette Lake. Submit photo proof or mail the card in to Long Lake PRT\, PO Box 496\, Long Lake\, NY 12847 or email events@mylonglake.com
URL:https://www.mylonglake.com/event/winter-wonderland-bingo/
CATEGORIES:Upcoming,Winter Events
ATTACH;FMTTYPE=image/jpeg:https://www.mylonglake.com/wp-content/uploads/2023/01/WW-2023-Bingo.jpg
ORGANIZER;CN="Town of Long Lake Parks & Recreation":MAILTO:longlake@mylonglake.com
END:VEVENT
BEGIN:VEVENT
DTSTART;TZID=America/New_York:20230211T060000
DTEND;TZID=America/New_York:20230211T150000
DTSTAMP:20260422T143007
CREATED:20221228T160120Z
LAST-MODIFIED:20221228T160120Z
UID:10000200-1676095200-1676127600@www.mylonglake.com
SUMMARY:Long Lake Ice Fishing Derby and Kids Fishing Contest
DESCRIPTION:6am -7am. Registration at LL Geiger Arena\, Mt. Sabattis 6 Pavilion Lane \n7am – Lines In and Weigh in Station open at LL Town Beach\, 1258 Main Street\, Long Lake. Late registration also takes place at Town Beach. \nThe Long Lake Fish and Game Club host their Annual Ice Fishing Derby combined with the Kids Fishing Contest. Fish the waters of Long Lake or Lake Eaton.  \nCash prizes for trout and landlocked salmon from Lake Eaton and Pike on Long Lake.  \n$25 registration fee per person. Children 16 and under no entry fees. \nAwards Ceremony at the Long Lake Diner immediately following the final weigh in at 3pm. MUST BE PRESENT TO WIN. \nLong Lake Geiger Arena located at Mt. Sabattis at 6 Pavilion Lane or 1100 Deerland Road  \n(for GPS mapping) \nLong Lake Town Beach Weigh In location – 1258 Main Street\, Long Lake\, NY \nLong Lake Diner – Awards 3:30pm – 1161 Main Street\, Long Lake\, NY \nWinners must be present to win prizes.  \nFor more information contact the Long lake Fish and Game Club at www.longlakefishgame.com
URL:https://www.mylonglake.com/event/long-lake-ice-fishing-derby-and-kids-fishing-contest/
LOCATION:Geiger Arena Parking Lot\, 6 Pavillion Road\, Long Lake\, New York\, 12847\, United States
CATEGORIES:Events,Upcoming,Winter Events
ATTACH;FMTTYPE=image/jpeg:https://www.mylonglake.com/wp-content/uploads/2022/12/LL-Ice-Fishing-Derby_2023-650-copy-1.jpg
ORGANIZER;CN="Long Lake Fish & Game Club":MAILTO:ll.fish.game.club@gmail.com
END:VEVENT
BEGIN:VEVENT
DTSTART;TZID=America/New_York:20230211T190000
DTEND;TZID=America/New_York:20230211T210000
DTSTAMP:20260422T143007
CREATED:20221228T154029Z
LAST-MODIFIED:20221228T154052Z
UID:10000195-1676142000-1676149200@www.mylonglake.com
SUMMARY:Blessid Dirt
DESCRIPTION:Cafe Livre Series\n(The Cafe Livre Series has been graciously funded by The Friends of the Library).\nEvent is free and all are welcome to attend.\nMasks are not required.\nArtist Bio:\n\nTereson Dupuy is an outdoor enthusiast\, full-time nomadic traveler\, and writer. She has traveled cross-country in her car and RV and has mastered living in or out of both. Her passion is sharing her adventurous spirit with the world to inspire them to do the same. When not on the road traveling the country\, Tereson can be found hiking in the Adirondacks\, the place she now calls home.
URL:https://www.mylonglake.com/event/blessid-dirt/
LOCATION:CV Whitney Long Lake Public Library\, 1195 Main Street\, Long Lake\, NY\, 12847\, United States
CATEGORIES:Upcoming,Winter Events
ATTACH;FMTTYPE=image/jpeg:https://www.mylonglake.com/wp-content/uploads/2022/12/2023.02.11-Blessid-Dirt.jpg
END:VEVENT
END:VCALENDAR