BEGIN:VCALENDAR
VERSION:2.0
PRODID:-//Long Lake - ECPv6.15.17.1//NONSGML v1.0//EN
CALSCALE:GREGORIAN
METHOD:PUBLISH
X-WR-CALNAME:Long Lake
X-ORIGINAL-URL:https://www.mylonglake.com
X-WR-CALDESC:Events for Long Lake
REFRESH-INTERVAL;VALUE=DURATION:PT1H
X-Robots-Tag:noindex
X-PUBLISHED-TTL:PT1H
BEGIN:VTIMEZONE
TZID:America/New_York
BEGIN:DAYLIGHT
TZOFFSETFROM:-0500
TZOFFSETTO:-0400
TZNAME:EDT
DTSTART:20210314T070000
END:DAYLIGHT
BEGIN:STANDARD
TZOFFSETFROM:-0400
TZOFFSETTO:-0500
TZNAME:EST
DTSTART:20211107T060000
END:STANDARD
BEGIN:DAYLIGHT
TZOFFSETFROM:-0500
TZOFFSETTO:-0400
TZNAME:EDT
DTSTART:20220313T070000
END:DAYLIGHT
BEGIN:STANDARD
TZOFFSETFROM:-0400
TZOFFSETTO:-0500
TZNAME:EST
DTSTART:20221106T060000
END:STANDARD
BEGIN:DAYLIGHT
TZOFFSETFROM:-0500
TZOFFSETTO:-0400
TZNAME:EDT
DTSTART:20230312T070000
END:DAYLIGHT
BEGIN:STANDARD
TZOFFSETFROM:-0400
TZOFFSETTO:-0500
TZNAME:EST
DTSTART:20231105T060000
END:STANDARD
END:VTIMEZONE
BEGIN:VEVENT
DTSTART;TZID=America/New_York:20221213T180000
DTEND;TZID=America/New_York:20221213T210000
DTSTAMP:20260423T003009
CREATED:20221214T000934Z
LAST-MODIFIED:20221214T000934Z
UID:10000188-1670954400-1670965200@www.mylonglake.com
SUMMARY:Annual Election of Fire Commissioners
DESCRIPTION:Description: \nLegal ad \nTo the electors of the Long Lake Fire District #1 Town of Long Lake\, N.Y. You are hereby notified that the Annual Election of the Fire Commissioners of the Town of Long Lake\, N.Y. will be held at the fire station building in the Hamlet of Long Lake\, located at 111 South Hill Rd. on December 13\, 2022. \nThe polls will be open from 6:00 p.m. to 9:00 p.m. for the purpose of electing a Fire Commissioner for a 5 year term.  Term to commence on January 1\, 2023.  The 5 year Commissioner seat is currently held by Harry Buxton.  By order of the Fire Commissioners\, Town of Long Lake Fire District #1\, Long Lake\, N.Y. 12847
URL:https://www.mylonglake.com/event/annual-election-of-fire-commissioners/
CATEGORIES:Upcoming
ATTACH;FMTTYPE=image/png:https://www.mylonglake.com/wp-content/uploads/2022/12/24953-9-vote-photos.png
END:VEVENT
END:VCALENDAR