BEGIN:VCALENDAR
VERSION:2.0
PRODID:-//Long Lake - ECPv6.15.17.1//NONSGML v1.0//EN
CALSCALE:GREGORIAN
METHOD:PUBLISH
X-ORIGINAL-URL:https://www.mylonglake.com
X-WR-CALDESC:Events for Long Lake
REFRESH-INTERVAL;VALUE=DURATION:PT1H
X-Robots-Tag:noindex
X-PUBLISHED-TTL:PT1H
BEGIN:VTIMEZONE
TZID:America/New_York
BEGIN:DAYLIGHT
TZOFFSETFROM:-0500
TZOFFSETTO:-0400
TZNAME:EDT
DTSTART:20210314T070000
END:DAYLIGHT
BEGIN:STANDARD
TZOFFSETFROM:-0400
TZOFFSETTO:-0500
TZNAME:EST
DTSTART:20211107T060000
END:STANDARD
BEGIN:DAYLIGHT
TZOFFSETFROM:-0500
TZOFFSETTO:-0400
TZNAME:EDT
DTSTART:20220313T070000
END:DAYLIGHT
BEGIN:STANDARD
TZOFFSETFROM:-0400
TZOFFSETTO:-0500
TZNAME:EST
DTSTART:20221106T060000
END:STANDARD
BEGIN:DAYLIGHT
TZOFFSETFROM:-0500
TZOFFSETTO:-0400
TZNAME:EDT
DTSTART:20230312T070000
END:DAYLIGHT
BEGIN:STANDARD
TZOFFSETFROM:-0400
TZOFFSETTO:-0500
TZNAME:EST
DTSTART:20231105T060000
END:STANDARD
END:VTIMEZONE
BEGIN:VEVENT
DTSTART;TZID=America/New_York:20221211T110000
DTEND;TZID=America/New_York:20221211T160000
DTSTAMP:20260423T034551
CREATED:20221209T132913Z
LAST-MODIFIED:20221209T133520Z
UID:10000185-1670756400-1670774400@www.mylonglake.com
SUMMARY:Holiday Shopping in Raquette Lake
DESCRIPTION:11am – 4pm Holiday Shopping right in town just in time for Christmas. Support Local businesses. ADK Grown Maple Moss Sugarworks 31 Rhonda’s ADK Photos Norwex Products The Yarn Cave Pampered Chef \n  \nRaquette Lake School. \n  \nThis is also a fundraiser for the Raquette Lake Parents and Teachers Association.
URL:https://www.mylonglake.com/event/holiday-shopping-in-raquette-lake/
LOCATION:Raquette Lake School\, 115 NYS Route 28\, Raquette Lake\, NY\, 13436\, United States
CATEGORIES:Upcoming,Winter Events
ATTACH;FMTTYPE=image/jpeg:https://www.mylonglake.com/wp-content/uploads/2022/12/RL-Vendor-Event-for-web.jpg
END:VEVENT
BEGIN:VEVENT
DTSTART;TZID=America/New_York:20221211T130000
DTEND;TZID=America/New_York:20221211T160000
DTSTAMP:20260423T034551
CREATED:20221209T133758Z
LAST-MODIFIED:20221209T133758Z
UID:10000186-1670763600-1670774400@www.mylonglake.com
SUMMARY:Christmas Craft Market
DESCRIPTION:One-of-a-Kind never goes out of style!\nJoin us this Sunday for some great shopping! Jewelry\, home decor\, photography\, rustic birdhouses\, handmade wool items\, leather goods\, beautiful artistic creations and more. \nSee less
URL:https://www.mylonglake.com/event/christmas-craft-market/
LOCATION:Adirondack Hotel\, 1245 Main Street\, Long Lake\, 12847\, United States
CATEGORIES:Upcoming,Winter Events
ATTACH;FMTTYPE=image/jpeg:https://www.mylonglake.com/wp-content/uploads/2022/12/Christmas-Craft-Market.jpg
END:VEVENT
BEGIN:VEVENT
DTSTART;TZID=America/New_York:20221211T133000
DTEND;TZID=America/New_York:20221211T140000
DTSTAMP:20260423T034551
CREATED:20221201T210619Z
LAST-MODIFIED:20221201T210619Z
UID:10000005-1670765400-1670767200@www.mylonglake.com
SUMMARY:Annual Creche Opening
DESCRIPTION:All welcome.
URL:https://www.mylonglake.com/event/annual-creche-opening/
LOCATION:Long Lake Town Hall\, 1204 Main Street\, Long Lake\, NY\, 12847\, United States
CATEGORIES:Winter Events
ATTACH;FMTTYPE=image/jpeg:https://www.mylonglake.com/wp-content/uploads/2022/12/christmas-tree.jpg
END:VEVENT
BEGIN:VEVENT
DTSTART;TZID=America/New_York:20221211T140000
DTEND;TZID=America/New_York:20221211T160000
DTSTAMP:20260423T034551
CREATED:20221201T211047Z
LAST-MODIFIED:20221201T211047Z
UID:10000006-1670767200-1670774400@www.mylonglake.com
SUMMARY:North Country Fair Concert
DESCRIPTION:North Country Fair\, an arrangement of local musicians that specializes in Celtic music and instruments\, will be playing a concert on Sunday December 11th from 2-4pm at the Long Lake Town Hall. The show will focus on Scottish\, Irish and French Canadian music with a holiday theme including some clogging. Admission is free\, and this is a family friendly event. Call 518-624-3077 for more information. \n  \nFree
URL:https://www.mylonglake.com/event/north-country-fair-concert/
LOCATION:Long Lake Town Hall\, 1204 Main Street\, Long Lake\, NY\, 12847\, United States
CATEGORIES:Winter Events
ATTACH;FMTTYPE=image/jpeg:https://www.mylonglake.com/wp-content/uploads/2022/12/istockphoto-165744077-612x612-1.jpg
ORGANIZER;CN="Town of Long Lake Parks & Recreation":MAILTO:longlake@mylonglake.com
END:VEVENT
END:VCALENDAR