BEGIN:VCALENDAR
VERSION:2.0
PRODID:-//Long Lake - ECPv6.15.17.1//NONSGML v1.0//EN
CALSCALE:GREGORIAN
METHOD:PUBLISH
X-WR-CALNAME:Long Lake
X-ORIGINAL-URL:https://www.mylonglake.com
X-WR-CALDESC:Events for Long Lake
REFRESH-INTERVAL;VALUE=DURATION:PT1H
X-Robots-Tag:noindex
X-PUBLISHED-TTL:PT1H
BEGIN:VTIMEZONE
TZID:America/New_York
BEGIN:DAYLIGHT
TZOFFSETFROM:-0500
TZOFFSETTO:-0400
TZNAME:EDT
DTSTART:20210314T070000
END:DAYLIGHT
BEGIN:STANDARD
TZOFFSETFROM:-0400
TZOFFSETTO:-0500
TZNAME:EST
DTSTART:20211107T060000
END:STANDARD
BEGIN:DAYLIGHT
TZOFFSETFROM:-0500
TZOFFSETTO:-0400
TZNAME:EDT
DTSTART:20220313T070000
END:DAYLIGHT
BEGIN:STANDARD
TZOFFSETFROM:-0400
TZOFFSETTO:-0500
TZNAME:EST
DTSTART:20221106T060000
END:STANDARD
BEGIN:DAYLIGHT
TZOFFSETFROM:-0500
TZOFFSETTO:-0400
TZNAME:EDT
DTSTART:20230312T070000
END:DAYLIGHT
BEGIN:STANDARD
TZOFFSETFROM:-0400
TZOFFSETTO:-0500
TZNAME:EST
DTSTART:20231105T060000
END:STANDARD
END:VTIMEZONE
BEGIN:VEVENT
DTSTART;TZID=America/New_York:20221204T090000
DTEND;TZID=America/New_York:20221204T170000
DTSTAMP:20260423T142231
CREATED:20221106T153254Z
LAST-MODIFIED:20221106T153254Z
UID:10000048-1670144400-1670173200@www.mylonglake.com
SUMMARY:Stained Glass Class in Raquette Lake
DESCRIPTION:9am \nRaquette Lake Free Union School join Mary Pokrentowski as she leads a stained glass decoration class. Attendees will assemble a stained glass snowflake decoration approximately 8-10″ in diameter\, with the help of Mary\, all materials will be provided and this requires no previous skill or knowledge of working with stained glass. \n\n\nThe class is $20 and will last from 9am – 3pm\, for more information or to see an example of the ornament visit the Town of Long Lake Facebook page\, or call 518-624-3077. Space is very limited for this class so make sure to sign up early.
URL:https://www.mylonglake.com/event/stained-glass-class-in-raquette-lake/
LOCATION:Raquette Lake School\, 115 NYS Route 28\, Raquette Lake\, NY\, 13436\, United States
CATEGORIES:Upcoming
ATTACH;FMTTYPE=image/jpeg:https://www.mylonglake.com/wp-content/uploads/2022/11/IMG_2350.jpg
ORGANIZER;CN="Town of Long Lake Parks & Recreation":MAILTO:longlake@mylonglake.com
END:VEVENT
END:VCALENDAR