BEGIN:VCALENDAR
VERSION:2.0
PRODID:-//Long Lake - ECPv6.15.17.1//NONSGML v1.0//EN
CALSCALE:GREGORIAN
METHOD:PUBLISH
X-WR-CALNAME:Long Lake
X-ORIGINAL-URL:https://www.mylonglake.com
X-WR-CALDESC:Events for Long Lake
REFRESH-INTERVAL;VALUE=DURATION:PT1H
X-Robots-Tag:noindex
X-PUBLISHED-TTL:PT1H
BEGIN:VTIMEZONE
TZID:America/New_York
BEGIN:DAYLIGHT
TZOFFSETFROM:-0500
TZOFFSETTO:-0400
TZNAME:EDT
DTSTART:20210314T070000
END:DAYLIGHT
BEGIN:STANDARD
TZOFFSETFROM:-0400
TZOFFSETTO:-0500
TZNAME:EST
DTSTART:20211107T060000
END:STANDARD
BEGIN:DAYLIGHT
TZOFFSETFROM:-0500
TZOFFSETTO:-0400
TZNAME:EDT
DTSTART:20220313T070000
END:DAYLIGHT
BEGIN:STANDARD
TZOFFSETFROM:-0400
TZOFFSETTO:-0500
TZNAME:EST
DTSTART:20221106T060000
END:STANDARD
BEGIN:DAYLIGHT
TZOFFSETFROM:-0500
TZOFFSETTO:-0400
TZNAME:EDT
DTSTART:20230312T070000
END:DAYLIGHT
BEGIN:STANDARD
TZOFFSETFROM:-0400
TZOFFSETTO:-0500
TZNAME:EST
DTSTART:20231105T060000
END:STANDARD
END:VTIMEZONE
BEGIN:VEVENT
DTSTART;TZID=America/New_York:20221202T140000
DTEND;TZID=America/New_York:20221202T170000
DTSTAMP:20260423T172213
CREATED:20221201T204947Z
LAST-MODIFIED:20221201T204947Z
UID:10000001-1669989600-1670000400@www.mylonglake.com
SUMMARY:Aquatic Invasive Plants
DESCRIPTION:Join the Long Lake Association for a report for an Aquatic Invasive Species survey conducted on Long Lake.
URL:https://www.mylonglake.com/event/aquatic-invasive-plants/
LOCATION:CV Whitney Long Lake Public Library\, 1195 Main Street\, Long Lake\, NY\, 12847\, United States
CATEGORIES:Winter Events
ATTACH;FMTTYPE=image/jpeg:https://www.mylonglake.com/wp-content/uploads/2022/12/Aquatic-Invasive-4.jpg
ORGANIZER;CN="Long Lake Association":MAILTO:longlivelonglakeny@gmail.com
END:VEVENT
END:VCALENDAR